BEGIN:VCALENDAR
VERSION:2.0
PRODID:-//achurchnearyou.com//eventfeed//EN
CALSCALE:GREGORIAN
METHOD:PUBLISH
X-WR-TIMEZONE:UTC
BEGIN:VEVENT
SUMMARY:Sunday Services
DTSTART;TZID=Europe/London:20260405T104500
DTEND;TZID=Europe/London:20260405T114500
DTSTAMP:20260421T192229Z
UID:2673601775382300.0achurchnearyou
CATEGORIES:
DESCRIPTION:We usually have a service of Morning Prayer (non-communion)\, 
 apart from on the 3rd Sunday of the month\, when we have a communion servi
 ce.\n\nCoffee/tea etc is served after all services and\, also\, after the 
 service on the first Sunday of the month\, we have a "Bring and Share" lun
 ch.  An excellent way to get to know our church family.
GEO:-1.093114;52.962535
LOCATION:Carlton: St John the Baptist
URL:http://www.stjohnscarlton.org.uk/
END:VEVENT
BEGIN:VEVENT
SUMMARY:Sunday Services
DTSTART;TZID=Europe/London:20260412T104500
DTEND;TZID=Europe/London:20260412T114500
DTSTAMP:20260421T192229Z
UID:2673601775987100.0achurchnearyou
CATEGORIES:
DESCRIPTION:We usually have a service of Morning Prayer (non-communion)\, 
 apart from on the 3rd Sunday of the month\, when we have a communion servi
 ce.\n\nCoffee/tea etc is served after all services and\, also\, after the 
 service on the first Sunday of the month\, we have a "Bring and Share" lun
 ch.  An excellent way to get to know our church family.
GEO:-1.093114;52.962535
LOCATION:Carlton: St John the Baptist
URL:http://www.stjohnscarlton.org.uk/
END:VEVENT
BEGIN:VEVENT
SUMMARY:Sunday Services
DTSTART;TZID=Europe/London:20260419T104500
DTEND;TZID=Europe/London:20260419T114500
DTSTAMP:20260421T192229Z
UID:2673601776591900.0achurchnearyou
CATEGORIES:
DESCRIPTION:We usually have a service of Morning Prayer (non-communion)\, 
 apart from on the 3rd Sunday of the month\, when we have a communion servi
 ce.\n\nCoffee/tea etc is served after all services and\, also\, after the 
 service on the first Sunday of the month\, we have a "Bring and Share" lun
 ch.  An excellent way to get to know our church family.
GEO:-1.093114;52.962535
LOCATION:Carlton: St John the Baptist
URL:http://www.stjohnscarlton.org.uk/
END:VEVENT
BEGIN:VEVENT
SUMMARY:Sunday Services
DTSTART;TZID=Europe/London:20260426T104500
DTEND;TZID=Europe/London:20260426T114500
DTSTAMP:20260421T192229Z
UID:2673601777196700.0achurchnearyou
CATEGORIES:
DESCRIPTION:We usually have a service of Morning Prayer (non-communion)\, 
 apart from on the 3rd Sunday of the month\, when we have a communion servi
 ce.\n\nCoffee/tea etc is served after all services and\, also\, after the 
 service on the first Sunday of the month\, we have a "Bring and Share" lun
 ch.  An excellent way to get to know our church family.
GEO:-1.093114;52.962535
LOCATION:Carlton: St John the Baptist
URL:http://www.stjohnscarlton.org.uk/
END:VEVENT
BEGIN:VEVENT
SUMMARY:Sunday Services
DTSTART;TZID=Europe/London:20260503T104500
DTEND;TZID=Europe/London:20260503T114500
DTSTAMP:20260421T192229Z
UID:2673601777801500.0achurchnearyou
CATEGORIES:
DESCRIPTION:We usually have a service of Morning Prayer (non-communion)\, 
 apart from on the 3rd Sunday of the month\, when we have a communion servi
 ce.\n\nCoffee/tea etc is served after all services and\, also\, after the 
 service on the first Sunday of the month\, we have a "Bring and Share" lun
 ch.  An excellent way to get to know our church family.
GEO:-1.093114;52.962535
LOCATION:Carlton: St John the Baptist
URL:http://www.stjohnscarlton.org.uk/
END:VEVENT
BEGIN:VEVENT
SUMMARY:Sunday Services
DTSTART;TZID=Europe/London:20260510T104500
DTEND;TZID=Europe/London:20260510T114500
DTSTAMP:20260421T192229Z
UID:2673601778406300.0achurchnearyou
CATEGORIES:
DESCRIPTION:We usually have a service of Morning Prayer (non-communion)\, 
 apart from on the 3rd Sunday of the month\, when we have a communion servi
 ce.\n\nCoffee/tea etc is served after all services and\, also\, after the 
 service on the first Sunday of the month\, we have a "Bring and Share" lun
 ch.  An excellent way to get to know our church family.
GEO:-1.093114;52.962535
LOCATION:Carlton: St John the Baptist
URL:http://www.stjohnscarlton.org.uk/
END:VEVENT
BEGIN:VEVENT
SUMMARY:Sunday Services
DTSTART;TZID=Europe/London:20260517T104500
DTEND;TZID=Europe/London:20260517T114500
DTSTAMP:20260421T192229Z
UID:2673601779011100.0achurchnearyou
CATEGORIES:
DESCRIPTION:We usually have a service of Morning Prayer (non-communion)\, 
 apart from on the 3rd Sunday of the month\, when we have a communion servi
 ce.\n\nCoffee/tea etc is served after all services and\, also\, after the 
 service on the first Sunday of the month\, we have a "Bring and Share" lun
 ch.  An excellent way to get to know our church family.
GEO:-1.093114;52.962535
LOCATION:Carlton: St John the Baptist
URL:http://www.stjohnscarlton.org.uk/
END:VEVENT
BEGIN:VEVENT
SUMMARY:Sunday Services
DTSTART;TZID=Europe/London:20260524T104500
DTEND;TZID=Europe/London:20260524T114500
DTSTAMP:20260421T192229Z
UID:2673601779615900.0achurchnearyou
CATEGORIES:
DESCRIPTION:We usually have a service of Morning Prayer (non-communion)\, 
 apart from on the 3rd Sunday of the month\, when we have a communion servi
 ce.\n\nCoffee/tea etc is served after all services and\, also\, after the 
 service on the first Sunday of the month\, we have a "Bring and Share" lun
 ch.  An excellent way to get to know our church family.
GEO:-1.093114;52.962535
LOCATION:Carlton: St John the Baptist
URL:http://www.stjohnscarlton.org.uk/
END:VEVENT
BEGIN:VEVENT
SUMMARY:Sunday Services
DTSTART;TZID=Europe/London:20260531T104500
DTEND;TZID=Europe/London:20260531T114500
DTSTAMP:20260421T192229Z
UID:2673601780220700.0achurchnearyou
CATEGORIES:
DESCRIPTION:We usually have a service of Morning Prayer (non-communion)\, 
 apart from on the 3rd Sunday of the month\, when we have a communion servi
 ce.\n\nCoffee/tea etc is served after all services and\, also\, after the 
 service on the first Sunday of the month\, we have a "Bring and Share" lun
 ch.  An excellent way to get to know our church family.
GEO:-1.093114;52.962535
LOCATION:Carlton: St John the Baptist
URL:http://www.stjohnscarlton.org.uk/
END:VEVENT
BEGIN:VEVENT
SUMMARY:Sunday Services
DTSTART;TZID=Europe/London:20260607T104500
DTEND;TZID=Europe/London:20260607T114500
DTSTAMP:20260421T192229Z
UID:2673601780825500.0achurchnearyou
CATEGORIES:
DESCRIPTION:We usually have a service of Morning Prayer (non-communion)\, 
 apart from on the 3rd Sunday of the month\, when we have a communion servi
 ce.\n\nCoffee/tea etc is served after all services and\, also\, after the 
 service on the first Sunday of the month\, we have a "Bring and Share" lun
 ch.  An excellent way to get to know our church family.
GEO:-1.093114;52.962535
LOCATION:Carlton: St John the Baptist
URL:http://www.stjohnscarlton.org.uk/
END:VEVENT
BEGIN:VEVENT
SUMMARY:Sunday Services
DTSTART;TZID=Europe/London:20260614T104500
DTEND;TZID=Europe/London:20260614T114500
DTSTAMP:20260421T192229Z
UID:2673601781430300.0achurchnearyou
CATEGORIES:
DESCRIPTION:We usually have a service of Morning Prayer (non-communion)\, 
 apart from on the 3rd Sunday of the month\, when we have a communion servi
 ce.\n\nCoffee/tea etc is served after all services and\, also\, after the 
 service on the first Sunday of the month\, we have a "Bring and Share" lun
 ch.  An excellent way to get to know our church family.
GEO:-1.093114;52.962535
LOCATION:Carlton: St John the Baptist
URL:http://www.stjohnscarlton.org.uk/
END:VEVENT
BEGIN:VEVENT
SUMMARY:Sunday Services
DTSTART;TZID=Europe/London:20260621T104500
DTEND;TZID=Europe/London:20260621T114500
DTSTAMP:20260421T192229Z
UID:2673601782035100.0achurchnearyou
CATEGORIES:
DESCRIPTION:We usually have a service of Morning Prayer (non-communion)\, 
 apart from on the 3rd Sunday of the month\, when we have a communion servi
 ce.\n\nCoffee/tea etc is served after all services and\, also\, after the 
 service on the first Sunday of the month\, we have a "Bring and Share" lun
 ch.  An excellent way to get to know our church family.
GEO:-1.093114;52.962535
LOCATION:Carlton: St John the Baptist
URL:http://www.stjohnscarlton.org.uk/
END:VEVENT
BEGIN:VEVENT
SUMMARY:Sunday Services
DTSTART;TZID=Europe/London:20260628T104500
DTEND;TZID=Europe/London:20260628T114500
DTSTAMP:20260421T192229Z
UID:2673601782639900.0achurchnearyou
CATEGORIES:
DESCRIPTION:We usually have a service of Morning Prayer (non-communion)\, 
 apart from on the 3rd Sunday of the month\, when we have a communion servi
 ce.\n\nCoffee/tea etc is served after all services and\, also\, after the 
 service on the first Sunday of the month\, we have a "Bring and Share" lun
 ch.  An excellent way to get to know our church family.
GEO:-1.093114;52.962535
LOCATION:Carlton: St John the Baptist
URL:http://www.stjohnscarlton.org.uk/
END:VEVENT
BEGIN:VEVENT
SUMMARY:Sunday Services
DTSTART;TZID=Europe/London:20260705T104500
DTEND;TZID=Europe/London:20260705T114500
DTSTAMP:20260421T192229Z
UID:2673601783244700.0achurchnearyou
CATEGORIES:
DESCRIPTION:We usually have a service of Morning Prayer (non-communion)\, 
 apart from on the 3rd Sunday of the month\, when we have a communion servi
 ce.\n\nCoffee/tea etc is served after all services and\, also\, after the 
 service on the first Sunday of the month\, we have a "Bring and Share" lun
 ch.  An excellent way to get to know our church family.
GEO:-1.093114;52.962535
LOCATION:Carlton: St John the Baptist
URL:http://www.stjohnscarlton.org.uk/
END:VEVENT
BEGIN:VEVENT
SUMMARY:Sunday Services
DTSTART;TZID=Europe/London:20260712T104500
DTEND;TZID=Europe/London:20260712T114500
DTSTAMP:20260421T192229Z
UID:2673601783849500.0achurchnearyou
CATEGORIES:
DESCRIPTION:We usually have a service of Morning Prayer (non-communion)\, 
 apart from on the 3rd Sunday of the month\, when we have a communion servi
 ce.\n\nCoffee/tea etc is served after all services and\, also\, after the 
 service on the first Sunday of the month\, we have a "Bring and Share" lun
 ch.  An excellent way to get to know our church family.
GEO:-1.093114;52.962535
LOCATION:Carlton: St John the Baptist
URL:http://www.stjohnscarlton.org.uk/
END:VEVENT
BEGIN:VEVENT
SUMMARY:Sunday Services
DTSTART;TZID=Europe/London:20260719T104500
DTEND;TZID=Europe/London:20260719T114500
DTSTAMP:20260421T192229Z
UID:2673601784454300.0achurchnearyou
CATEGORIES:
DESCRIPTION:We usually have a service of Morning Prayer (non-communion)\, 
 apart from on the 3rd Sunday of the month\, when we have a communion servi
 ce.\n\nCoffee/tea etc is served after all services and\, also\, after the 
 service on the first Sunday of the month\, we have a "Bring and Share" lun
 ch.  An excellent way to get to know our church family.
GEO:-1.093114;52.962535
LOCATION:Carlton: St John the Baptist
URL:http://www.stjohnscarlton.org.uk/
END:VEVENT
BEGIN:VEVENT
SUMMARY:Sunday Services
DTSTART;TZID=Europe/London:20260726T104500
DTEND;TZID=Europe/London:20260726T114500
DTSTAMP:20260421T192229Z
UID:2673601785059100.0achurchnearyou
CATEGORIES:
DESCRIPTION:We usually have a service of Morning Prayer (non-communion)\, 
 apart from on the 3rd Sunday of the month\, when we have a communion servi
 ce.\n\nCoffee/tea etc is served after all services and\, also\, after the 
 service on the first Sunday of the month\, we have a "Bring and Share" lun
 ch.  An excellent way to get to know our church family.
GEO:-1.093114;52.962535
LOCATION:Carlton: St John the Baptist
URL:http://www.stjohnscarlton.org.uk/
END:VEVENT
BEGIN:VEVENT
SUMMARY:Sunday Services
DTSTART;TZID=Europe/London:20260802T104500
DTEND;TZID=Europe/London:20260802T114500
DTSTAMP:20260421T192229Z
UID:2673601785663900.0achurchnearyou
CATEGORIES:
DESCRIPTION:We usually have a service of Morning Prayer (non-communion)\, 
 apart from on the 3rd Sunday of the month\, when we have a communion servi
 ce.\n\nCoffee/tea etc is served after all services and\, also\, after the 
 service on the first Sunday of the month\, we have a "Bring and Share" lun
 ch.  An excellent way to get to know our church family.
GEO:-1.093114;52.962535
LOCATION:Carlton: St John the Baptist
URL:http://www.stjohnscarlton.org.uk/
END:VEVENT
BEGIN:VEVENT
SUMMARY:Sunday Services
DTSTART;TZID=Europe/London:20260809T104500
DTEND;TZID=Europe/London:20260809T114500
DTSTAMP:20260421T192229Z
UID:2673601786268700.0achurchnearyou
CATEGORIES:
DESCRIPTION:We usually have a service of Morning Prayer (non-communion)\, 
 apart from on the 3rd Sunday of the month\, when we have a communion servi
 ce.\n\nCoffee/tea etc is served after all services and\, also\, after the 
 service on the first Sunday of the month\, we have a "Bring and Share" lun
 ch.  An excellent way to get to know our church family.
GEO:-1.093114;52.962535
LOCATION:Carlton: St John the Baptist
URL:http://www.stjohnscarlton.org.uk/
END:VEVENT
BEGIN:VEVENT
SUMMARY:Sunday Services
DTSTART;TZID=Europe/London:20260816T104500
DTEND;TZID=Europe/London:20260816T114500
DTSTAMP:20260421T192229Z
UID:2673601786873500.0achurchnearyou
CATEGORIES:
DESCRIPTION:We usually have a service of Morning Prayer (non-communion)\, 
 apart from on the 3rd Sunday of the month\, when we have a communion servi
 ce.\n\nCoffee/tea etc is served after all services and\, also\, after the 
 service on the first Sunday of the month\, we have a "Bring and Share" lun
 ch.  An excellent way to get to know our church family.
GEO:-1.093114;52.962535
LOCATION:Carlton: St John the Baptist
URL:http://www.stjohnscarlton.org.uk/
END:VEVENT
BEGIN:VEVENT
SUMMARY:Sunday Services
DTSTART;TZID=Europe/London:20260823T104500
DTEND;TZID=Europe/London:20260823T114500
DTSTAMP:20260421T192229Z
UID:2673601787478300.0achurchnearyou
CATEGORIES:
DESCRIPTION:We usually have a service of Morning Prayer (non-communion)\, 
 apart from on the 3rd Sunday of the month\, when we have a communion servi
 ce.\n\nCoffee/tea etc is served after all services and\, also\, after the 
 service on the first Sunday of the month\, we have a "Bring and Share" lun
 ch.  An excellent way to get to know our church family.
GEO:-1.093114;52.962535
LOCATION:Carlton: St John the Baptist
URL:http://www.stjohnscarlton.org.uk/
END:VEVENT
BEGIN:VEVENT
SUMMARY:Sunday Services
DTSTART;TZID=Europe/London:20260830T104500
DTEND;TZID=Europe/London:20260830T114500
DTSTAMP:20260421T192229Z
UID:2673601788083100.0achurchnearyou
CATEGORIES:
DESCRIPTION:We usually have a service of Morning Prayer (non-communion)\, 
 apart from on the 3rd Sunday of the month\, when we have a communion servi
 ce.\n\nCoffee/tea etc is served after all services and\, also\, after the 
 service on the first Sunday of the month\, we have a "Bring and Share" lun
 ch.  An excellent way to get to know our church family.
GEO:-1.093114;52.962535
LOCATION:Carlton: St John the Baptist
URL:http://www.stjohnscarlton.org.uk/
END:VEVENT
BEGIN:VEVENT
SUMMARY:Sunday Services
DTSTART;TZID=Europe/London:20260906T104500
DTEND;TZID=Europe/London:20260906T114500
DTSTAMP:20260421T192229Z
UID:2673601788687900.0achurchnearyou
CATEGORIES:
DESCRIPTION:We usually have a service of Morning Prayer (non-communion)\, 
 apart from on the 3rd Sunday of the month\, when we have a communion servi
 ce.\n\nCoffee/tea etc is served after all services and\, also\, after the 
 service on the first Sunday of the month\, we have a "Bring and Share" lun
 ch.  An excellent way to get to know our church family.
GEO:-1.093114;52.962535
LOCATION:Carlton: St John the Baptist
URL:http://www.stjohnscarlton.org.uk/
END:VEVENT
BEGIN:VEVENT
SUMMARY:Sunday Services
DTSTART;TZID=Europe/London:20260913T104500
DTEND;TZID=Europe/London:20260913T114500
DTSTAMP:20260421T192229Z
UID:2673601789292700.0achurchnearyou
CATEGORIES:
DESCRIPTION:We usually have a service of Morning Prayer (non-communion)\, 
 apart from on the 3rd Sunday of the month\, when we have a communion servi
 ce.\n\nCoffee/tea etc is served after all services and\, also\, after the 
 service on the first Sunday of the month\, we have a "Bring and Share" lun
 ch.  An excellent way to get to know our church family.
GEO:-1.093114;52.962535
LOCATION:Carlton: St John the Baptist
URL:http://www.stjohnscarlton.org.uk/
END:VEVENT
BEGIN:VEVENT
SUMMARY:Sunday Services
DTSTART;TZID=Europe/London:20260920T104500
DTEND;TZID=Europe/London:20260920T114500
DTSTAMP:20260421T192229Z
UID:2673601789897500.0achurchnearyou
CATEGORIES:
DESCRIPTION:We usually have a service of Morning Prayer (non-communion)\, 
 apart from on the 3rd Sunday of the month\, when we have a communion servi
 ce.\n\nCoffee/tea etc is served after all services and\, also\, after the 
 service on the first Sunday of the month\, we have a "Bring and Share" lun
 ch.  An excellent way to get to know our church family.
GEO:-1.093114;52.962535
LOCATION:Carlton: St John the Baptist
URL:http://www.stjohnscarlton.org.uk/
END:VEVENT
BEGIN:VEVENT
SUMMARY:Sunday Services
DTSTART;TZID=Europe/London:20260927T104500
DTEND;TZID=Europe/London:20260927T114500
DTSTAMP:20260421T192229Z
UID:2673601790502300.0achurchnearyou
CATEGORIES:
DESCRIPTION:We usually have a service of Morning Prayer (non-communion)\, 
 apart from on the 3rd Sunday of the month\, when we have a communion servi
 ce.\n\nCoffee/tea etc is served after all services and\, also\, after the 
 service on the first Sunday of the month\, we have a "Bring and Share" lun
 ch.  An excellent way to get to know our church family.
GEO:-1.093114;52.962535
LOCATION:Carlton: St John the Baptist
URL:http://www.stjohnscarlton.org.uk/
END:VEVENT
END:VCALENDAR
