BEGIN:VCALENDAR
VERSION:2.0
PRODID:-//achurchnearyou.com//eventfeed//EN
CALSCALE:GREGORIAN
METHOD:PUBLISH
X-WR-TIMEZONE:UTC
BEGIN:VEVENT
SUMMARY:Sunday Evening Service on the 4th Sunday of each month
DTSTART;TZID=Europe/London:20240324T180000
DTEND;TZID=Europe/London:20240324T184500
DTSTAMP:20260424T073106Z
UID:6750382024-03-24 18:00:00+00:00achurchnearyou
CATEGORIES:
DESCRIPTION:A short\, relaxed evening prayer service at 6pm (Summer months
 ) or 5pm (Winter months).
GEO:-3.755321;50.270333
LOCATION:St Mary's
URL:https://www.achurchnearyou.com/church/8982/service-and-events/events/6
 75038/
END:VEVENT
BEGIN:VEVENT
SUMMARY:Sunday Evening Service on the 4th Sunday of each month
DTSTART;TZID=Europe/London:20240428T180000
DTEND;TZID=Europe/London:20240428T184500
DTSTAMP:20260424T073106Z
UID:6750382024-04-28 18:00:00+01:00achurchnearyou
CATEGORIES:
DESCRIPTION:A short\, relaxed evening prayer service at 6pm (Summer months
 ) or 5pm (Winter months).
GEO:-3.755321;50.270333
LOCATION:St Mary's
URL:https://www.achurchnearyou.com/church/8982/service-and-events/events/6
 75038/
END:VEVENT
BEGIN:VEVENT
SUMMARY:Sunday Evening Service on the 4th Sunday of each month
DTSTART;TZID=Europe/London:20240526T180000
DTEND;TZID=Europe/London:20240526T184500
DTSTAMP:20260424T073106Z
UID:6750382024-05-26 18:00:00+01:00achurchnearyou
CATEGORIES:
DESCRIPTION:A short\, relaxed evening prayer service at 6pm (Summer months
 ) or 5pm (Winter months).
GEO:-3.755321;50.270333
LOCATION:St Mary's
URL:https://www.achurchnearyou.com/church/8982/service-and-events/events/6
 75038/
END:VEVENT
BEGIN:VEVENT
SUMMARY:Sunday Evening Service on the 4th Sunday of each month
DTSTART;TZID=Europe/London:20240623T180000
DTEND;TZID=Europe/London:20240623T184500
DTSTAMP:20260424T073106Z
UID:6750382024-06-23 18:00:00+01:00achurchnearyou
CATEGORIES:
DESCRIPTION:A short\, relaxed evening prayer service at 6pm (Summer months
 ) or 5pm (Winter months).
GEO:-3.755321;50.270333
LOCATION:St Mary's
URL:https://www.achurchnearyou.com/church/8982/service-and-events/events/6
 75038/
END:VEVENT
BEGIN:VEVENT
SUMMARY:Sunday Evening Service on the 4th Sunday of each month
DTSTART;TZID=Europe/London:20240728T180000
DTEND;TZID=Europe/London:20240728T184500
DTSTAMP:20260424T073106Z
UID:6750382024-07-28 18:00:00+01:00achurchnearyou
CATEGORIES:
DESCRIPTION:A short\, relaxed evening prayer service at 6pm (Summer months
 ) or 5pm (Winter months).
GEO:-3.755321;50.270333
LOCATION:St Mary's
URL:https://www.achurchnearyou.com/church/8982/service-and-events/events/6
 75038/
END:VEVENT
BEGIN:VEVENT
SUMMARY:Sunday Evening Service on the 4th Sunday of each month
DTSTART;TZID=Europe/London:20240825T180000
DTEND;TZID=Europe/London:20240825T184500
DTSTAMP:20260424T073106Z
UID:6750382024-08-25 18:00:00+01:00achurchnearyou
CATEGORIES:
DESCRIPTION:A short\, relaxed evening prayer service at 6pm (Summer months
 ) or 5pm (Winter months).
GEO:-3.755321;50.270333
LOCATION:St Mary's
URL:https://www.achurchnearyou.com/church/8982/service-and-events/events/6
 75038/
END:VEVENT
BEGIN:VEVENT
SUMMARY:Sunday Evening Service on the 4th Sunday of each month
DTSTART;TZID=Europe/London:20240922T180000
DTEND;TZID=Europe/London:20240922T184500
DTSTAMP:20260424T073106Z
UID:6750382024-09-22 18:00:00+01:00achurchnearyou
CATEGORIES:
DESCRIPTION:A short\, relaxed evening prayer service at 6pm (Summer months
 ) or 5pm (Winter months).
GEO:-3.755321;50.270333
LOCATION:St Mary's
URL:https://www.achurchnearyou.com/church/8982/service-and-events/events/6
 75038/
END:VEVENT
BEGIN:VEVENT
SUMMARY:Sunday Evening Service on the 4th Sunday of each month
DTSTART;TZID=Europe/London:20241027T180000
DTEND;TZID=Europe/London:20241027T184500
DTSTAMP:20260424T073106Z
UID:6750382024-10-27 18:00:00+00:00achurchnearyou
CATEGORIES:
DESCRIPTION:A short\, relaxed evening prayer service at 6pm (Summer months
 ) or 5pm (Winter months).
GEO:-3.755321;50.270333
LOCATION:St Mary's
URL:https://www.achurchnearyou.com/church/8982/service-and-events/events/6
 75038/
END:VEVENT
BEGIN:VEVENT
SUMMARY:Sunday Evening Service on the 4th Sunday of each month
DTSTART;TZID=Europe/London:20241124T180000
DTEND;TZID=Europe/London:20241124T184500
DTSTAMP:20260424T073106Z
UID:6750382024-11-24 18:00:00+00:00achurchnearyou
CATEGORIES:
DESCRIPTION:A short\, relaxed evening prayer service at 6pm (Summer months
 ) or 5pm (Winter months).
GEO:-3.755321;50.270333
LOCATION:St Mary's
URL:https://www.achurchnearyou.com/church/8982/service-and-events/events/6
 75038/
END:VEVENT
BEGIN:VEVENT
SUMMARY:Sunday Evening Service on the 4th Sunday of each month
DTSTART;TZID=Europe/London:20241222T180000
DTEND;TZID=Europe/London:20241222T184500
DTSTAMP:20260424T073106Z
UID:6750382024-12-22 18:00:00+00:00achurchnearyou
CATEGORIES:
DESCRIPTION:A short\, relaxed evening prayer service at 6pm (Summer months
 ) or 5pm (Winter months).
GEO:-3.755321;50.270333
LOCATION:St Mary's
URL:https://www.achurchnearyou.com/church/8982/service-and-events/events/6
 75038/
END:VEVENT
BEGIN:VEVENT
SUMMARY:Sunday Evening Service on the 4th Sunday of each month
DTSTART;TZID=Europe/London:20250126T180000
DTEND;TZID=Europe/London:20250126T184500
DTSTAMP:20260424T073106Z
UID:6750382025-01-26 18:00:00+00:00achurchnearyou
CATEGORIES:
DESCRIPTION:A short\, relaxed evening prayer service at 6pm (Summer months
 ) or 5pm (Winter months).
GEO:-3.755321;50.270333
LOCATION:St Mary's
URL:https://www.achurchnearyou.com/church/8982/service-and-events/events/6
 75038/
END:VEVENT
BEGIN:VEVENT
SUMMARY:Sunday Evening Service on the 4th Sunday of each month
DTSTART;TZID=Europe/London:20250223T180000
DTEND;TZID=Europe/London:20250223T184500
DTSTAMP:20260424T073106Z
UID:6750382025-02-23 18:00:00+00:00achurchnearyou
CATEGORIES:
DESCRIPTION:A short\, relaxed evening prayer service at 6pm (Summer months
 ) or 5pm (Winter months).
GEO:-3.755321;50.270333
LOCATION:St Mary's
URL:https://www.achurchnearyou.com/church/8982/service-and-events/events/6
 75038/
END:VEVENT
BEGIN:VEVENT
SUMMARY:Sunday Evening Service on the 4th Sunday of each month
DTSTART;TZID=Europe/London:20250323T180000
DTEND;TZID=Europe/London:20250323T184500
DTSTAMP:20260424T073106Z
UID:6750382025-03-23 18:00:00+00:00achurchnearyou
CATEGORIES:
DESCRIPTION:A short\, relaxed evening prayer service at 6pm (Summer months
 ) or 5pm (Winter months).
GEO:-3.755321;50.270333
LOCATION:St Mary's
URL:https://www.achurchnearyou.com/church/8982/service-and-events/events/6
 75038/
END:VEVENT
BEGIN:VEVENT
SUMMARY:Sunday Evening Service on the 4th Sunday of each month
DTSTART;TZID=Europe/London:20250427T180000
DTEND;TZID=Europe/London:20250427T184500
DTSTAMP:20260424T073106Z
UID:6750382025-04-27 18:00:00+01:00achurchnearyou
CATEGORIES:
DESCRIPTION:A short\, relaxed evening prayer service at 6pm (Summer months
 ) or 5pm (Winter months).
GEO:-3.755321;50.270333
LOCATION:St Mary's
URL:https://www.achurchnearyou.com/church/8982/service-and-events/events/6
 75038/
END:VEVENT
BEGIN:VEVENT
SUMMARY:Sunday Evening Service on the 4th Sunday of each month
DTSTART;TZID=Europe/London:20250525T180000
DTEND;TZID=Europe/London:20250525T184500
DTSTAMP:20260424T073106Z
UID:6750382025-05-25 18:00:00+01:00achurchnearyou
CATEGORIES:
DESCRIPTION:A short\, relaxed evening prayer service at 6pm (Summer months
 ) or 5pm (Winter months).
GEO:-3.755321;50.270333
LOCATION:St Mary's
URL:https://www.achurchnearyou.com/church/8982/service-and-events/events/6
 75038/
END:VEVENT
BEGIN:VEVENT
SUMMARY:Sunday Evening Service on the 4th Sunday of each month
DTSTART;TZID=Europe/London:20250622T180000
DTEND;TZID=Europe/London:20250622T184500
DTSTAMP:20260424T073106Z
UID:6750382025-06-22 18:00:00+01:00achurchnearyou
CATEGORIES:
DESCRIPTION:A short\, relaxed evening prayer service at 6pm (Summer months
 ) or 5pm (Winter months).
GEO:-3.755321;50.270333
LOCATION:St Mary's
URL:https://www.achurchnearyou.com/church/8982/service-and-events/events/6
 75038/
END:VEVENT
BEGIN:VEVENT
SUMMARY:Sunday Evening Service on the 4th Sunday of each month
DTSTART;TZID=Europe/London:20250727T180000
DTEND;TZID=Europe/London:20250727T184500
DTSTAMP:20260424T073106Z
UID:6750382025-07-27 18:00:00+01:00achurchnearyou
CATEGORIES:
DESCRIPTION:A short\, relaxed evening prayer service at 6pm (Summer months
 ) or 5pm (Winter months).
GEO:-3.755321;50.270333
LOCATION:St Mary's
URL:https://www.achurchnearyou.com/church/8982/service-and-events/events/6
 75038/
END:VEVENT
BEGIN:VEVENT
SUMMARY:Sunday Evening Service on the 4th Sunday of each month
DTSTART;TZID=Europe/London:20250824T180000
DTEND;TZID=Europe/London:20250824T184500
DTSTAMP:20260424T073106Z
UID:6750382025-08-24 18:00:00+01:00achurchnearyou
CATEGORIES:
DESCRIPTION:A short\, relaxed evening prayer service at 6pm (Summer months
 ) or 5pm (Winter months).
GEO:-3.755321;50.270333
LOCATION:St Mary's
URL:https://www.achurchnearyou.com/church/8982/service-and-events/events/6
 75038/
END:VEVENT
BEGIN:VEVENT
SUMMARY:Sunday Evening Service on the 4th Sunday of each month
DTSTART;TZID=Europe/London:20250928T180000
DTEND;TZID=Europe/London:20250928T184500
DTSTAMP:20260424T073106Z
UID:6750382025-09-28 18:00:00+01:00achurchnearyou
CATEGORIES:
DESCRIPTION:A short\, relaxed evening prayer service at 6pm (Summer months
 ) or 5pm (Winter months).
GEO:-3.755321;50.270333
LOCATION:St Mary's
URL:https://www.achurchnearyou.com/church/8982/service-and-events/events/6
 75038/
END:VEVENT
BEGIN:VEVENT
SUMMARY:Sunday Evening Service on the 4th Sunday of each month
DTSTART;TZID=Europe/London:20251026T180000
DTEND;TZID=Europe/London:20251026T184500
DTSTAMP:20260424T073106Z
UID:6750382025-10-26 18:00:00+00:00achurchnearyou
CATEGORIES:
DESCRIPTION:A short\, relaxed evening prayer service at 6pm (Summer months
 ) or 5pm (Winter months).
GEO:-3.755321;50.270333
LOCATION:St Mary's
URL:https://www.achurchnearyou.com/church/8982/service-and-events/events/6
 75038/
END:VEVENT
BEGIN:VEVENT
SUMMARY:Sunday Evening Service on the 4th Sunday of each month
DTSTART;TZID=Europe/London:20251123T180000
DTEND;TZID=Europe/London:20251123T184500
DTSTAMP:20260424T073106Z
UID:6750382025-11-23 18:00:00+00:00achurchnearyou
CATEGORIES:
DESCRIPTION:A short\, relaxed evening prayer service at 6pm (Summer months
 ) or 5pm (Winter months).
GEO:-3.755321;50.270333
LOCATION:St Mary's
URL:https://www.achurchnearyou.com/church/8982/service-and-events/events/6
 75038/
END:VEVENT
BEGIN:VEVENT
SUMMARY:Sunday Evening Service on the 4th Sunday of each month
DTSTART;TZID=Europe/London:20251228T180000
DTEND;TZID=Europe/London:20251228T184500
DTSTAMP:20260424T073106Z
UID:6750382025-12-28 18:00:00+00:00achurchnearyou
CATEGORIES:
DESCRIPTION:A short\, relaxed evening prayer service at 6pm (Summer months
 ) or 5pm (Winter months).
GEO:-3.755321;50.270333
LOCATION:St Mary's
URL:https://www.achurchnearyou.com/church/8982/service-and-events/events/6
 75038/
END:VEVENT
BEGIN:VEVENT
SUMMARY:Sunday Evening Service on the 4th Sunday of each month
DTSTART;TZID=Europe/London:20260125T180000
DTEND;TZID=Europe/London:20260125T184500
DTSTAMP:20260424T073106Z
UID:6750382026-01-25 18:00:00+00:00achurchnearyou
CATEGORIES:
DESCRIPTION:A short\, relaxed evening prayer service at 6pm (Summer months
 ) or 5pm (Winter months).
GEO:-3.755321;50.270333
LOCATION:St Mary's
URL:https://www.achurchnearyou.com/church/8982/service-and-events/events/6
 75038/
END:VEVENT
BEGIN:VEVENT
SUMMARY:Sunday Evening Service on the 4th Sunday of each month
DTSTART;TZID=Europe/London:20260222T180000
DTEND;TZID=Europe/London:20260222T184500
DTSTAMP:20260424T073106Z
UID:6750382026-02-22 18:00:00+00:00achurchnearyou
CATEGORIES:
DESCRIPTION:A short\, relaxed evening prayer service at 6pm (Summer months
 ) or 5pm (Winter months).
GEO:-3.755321;50.270333
LOCATION:St Mary's
URL:https://www.achurchnearyou.com/church/8982/service-and-events/events/6
 75038/
END:VEVENT
BEGIN:VEVENT
SUMMARY:Sunday Evening Service on the 4th Sunday of each month
DTSTART;TZID=Europe/London:20260322T180000
DTEND;TZID=Europe/London:20260322T184500
DTSTAMP:20260424T073106Z
UID:6750382026-03-22 18:00:00+00:00achurchnearyou
CATEGORIES:
DESCRIPTION:A short\, relaxed evening prayer service at 6pm (Summer months
 ) or 5pm (Winter months).
GEO:-3.755321;50.270333
LOCATION:St Mary's
URL:https://www.achurchnearyou.com/church/8982/service-and-events/events/6
 75038/
END:VEVENT
BEGIN:VEVENT
SUMMARY:Sunday Evening Service on the 4th Sunday of each month
DTSTART;TZID=Europe/London:20260426T180000
DTEND;TZID=Europe/London:20260426T184500
DTSTAMP:20260424T073106Z
UID:6750382026-04-26 18:00:00+01:00achurchnearyou
CATEGORIES:
DESCRIPTION:A short\, relaxed evening prayer service at 6pm (Summer months
 ) or 5pm (Winter months).
GEO:-3.755321;50.270333
LOCATION:St Mary's
URL:https://www.achurchnearyou.com/church/8982/service-and-events/events/6
 75038/
END:VEVENT
BEGIN:VEVENT
SUMMARY:Sunday Evening Service on the 4th Sunday of each month
DTSTART;TZID=Europe/London:20260524T180000
DTEND;TZID=Europe/London:20260524T184500
DTSTAMP:20260424T073106Z
UID:6750382026-05-24 18:00:00+01:00achurchnearyou
CATEGORIES:
DESCRIPTION:A short\, relaxed evening prayer service at 6pm (Summer months
 ) or 5pm (Winter months).
GEO:-3.755321;50.270333
LOCATION:St Mary's
URL:https://www.achurchnearyou.com/church/8982/service-and-events/events/6
 75038/
END:VEVENT
BEGIN:VEVENT
SUMMARY:Sunday Evening Service on the 4th Sunday of each month
DTSTART;TZID=Europe/London:20260628T180000
DTEND;TZID=Europe/London:20260628T184500
DTSTAMP:20260424T073106Z
UID:6750382026-06-28 18:00:00+01:00achurchnearyou
CATEGORIES:
DESCRIPTION:A short\, relaxed evening prayer service at 6pm (Summer months
 ) or 5pm (Winter months).
GEO:-3.755321;50.270333
LOCATION:St Mary's
URL:https://www.achurchnearyou.com/church/8982/service-and-events/events/6
 75038/
END:VEVENT
BEGIN:VEVENT
SUMMARY:Sunday Evening Service on the 4th Sunday of each month
DTSTART;TZID=Europe/London:20260726T180000
DTEND;TZID=Europe/London:20260726T184500
DTSTAMP:20260424T073106Z
UID:6750382026-07-26 18:00:00+01:00achurchnearyou
CATEGORIES:
DESCRIPTION:A short\, relaxed evening prayer service at 6pm (Summer months
 ) or 5pm (Winter months).
GEO:-3.755321;50.270333
LOCATION:St Mary's
URL:https://www.achurchnearyou.com/church/8982/service-and-events/events/6
 75038/
END:VEVENT
BEGIN:VEVENT
SUMMARY:Sunday Evening Service on the 4th Sunday of each month
DTSTART;TZID=Europe/London:20260823T180000
DTEND;TZID=Europe/London:20260823T184500
DTSTAMP:20260424T073106Z
UID:6750382026-08-23 18:00:00+01:00achurchnearyou
CATEGORIES:
DESCRIPTION:A short\, relaxed evening prayer service at 6pm (Summer months
 ) or 5pm (Winter months).
GEO:-3.755321;50.270333
LOCATION:St Mary's
URL:https://www.achurchnearyou.com/church/8982/service-and-events/events/6
 75038/
END:VEVENT
BEGIN:VEVENT
SUMMARY:Sunday Evening Service on the 4th Sunday of each month
DTSTART;TZID=Europe/London:20260927T180000
DTEND;TZID=Europe/London:20260927T184500
DTSTAMP:20260424T073106Z
UID:6750382026-09-27 18:00:00+01:00achurchnearyou
CATEGORIES:
DESCRIPTION:A short\, relaxed evening prayer service at 6pm (Summer months
 ) or 5pm (Winter months).
GEO:-3.755321;50.270333
LOCATION:St Mary's
URL:https://www.achurchnearyou.com/church/8982/service-and-events/events/6
 75038/
END:VEVENT
BEGIN:VEVENT
SUMMARY:Sunday Evening Service on the 4th Sunday of each month
DTSTART;TZID=Europe/London:20261025T180000
DTEND;TZID=Europe/London:20261025T184500
DTSTAMP:20260424T073106Z
UID:6750382026-10-25 18:00:00+00:00achurchnearyou
CATEGORIES:
DESCRIPTION:A short\, relaxed evening prayer service at 6pm (Summer months
 ) or 5pm (Winter months).
GEO:-3.755321;50.270333
LOCATION:St Mary's
URL:https://www.achurchnearyou.com/church/8982/service-and-events/events/6
 75038/
END:VEVENT
BEGIN:VEVENT
SUMMARY:Sunday Evening Service on the 4th Sunday of each month
DTSTART;TZID=Europe/London:20261122T180000
DTEND;TZID=Europe/London:20261122T184500
DTSTAMP:20260424T073106Z
UID:6750382026-11-22 18:00:00+00:00achurchnearyou
CATEGORIES:
DESCRIPTION:A short\, relaxed evening prayer service at 6pm (Summer months
 ) or 5pm (Winter months).
GEO:-3.755321;50.270333
LOCATION:St Mary's
URL:https://www.achurchnearyou.com/church/8982/service-and-events/events/6
 75038/
END:VEVENT
BEGIN:VEVENT
SUMMARY:Sunday Evening Service on the 4th Sunday of each month
DTSTART;TZID=Europe/London:20261227T180000
DTEND;TZID=Europe/London:20261227T184500
DTSTAMP:20260424T073106Z
UID:6750382026-12-27 18:00:00+00:00achurchnearyou
CATEGORIES:
DESCRIPTION:A short\, relaxed evening prayer service at 6pm (Summer months
 ) or 5pm (Winter months).
GEO:-3.755321;50.270333
LOCATION:St Mary's
URL:https://www.achurchnearyou.com/church/8982/service-and-events/events/6
 75038/
END:VEVENT
BEGIN:VEVENT
SUMMARY:Sunday Evening Service on the 4th Sunday of each month
DTSTART;TZID=Europe/London:20270124T180000
DTEND;TZID=Europe/London:20270124T184500
DTSTAMP:20260424T073106Z
UID:6750382027-01-24 18:00:00+00:00achurchnearyou
CATEGORIES:
DESCRIPTION:A short\, relaxed evening prayer service at 6pm (Summer months
 ) or 5pm (Winter months).
GEO:-3.755321;50.270333
LOCATION:St Mary's
URL:https://www.achurchnearyou.com/church/8982/service-and-events/events/6
 75038/
END:VEVENT
BEGIN:VEVENT
SUMMARY:Sunday Evening Service on the 4th Sunday of each month
DTSTART;TZID=Europe/London:20270228T180000
DTEND;TZID=Europe/London:20270228T184500
DTSTAMP:20260424T073106Z
UID:6750382027-02-28 18:00:00+00:00achurchnearyou
CATEGORIES:
DESCRIPTION:A short\, relaxed evening prayer service at 6pm (Summer months
 ) or 5pm (Winter months).
GEO:-3.755321;50.270333
LOCATION:St Mary's
URL:https://www.achurchnearyou.com/church/8982/service-and-events/events/6
 75038/
END:VEVENT
BEGIN:VEVENT
SUMMARY:Sunday Evening Service on the 4th Sunday of each month
DTSTART;TZID=Europe/London:20270328T180000
DTEND;TZID=Europe/London:20270328T184500
DTSTAMP:20260424T073106Z
UID:6750382027-03-28 18:00:00+01:00achurchnearyou
CATEGORIES:
DESCRIPTION:A short\, relaxed evening prayer service at 6pm (Summer months
 ) or 5pm (Winter months).
GEO:-3.755321;50.270333
LOCATION:St Mary's
URL:https://www.achurchnearyou.com/church/8982/service-and-events/events/6
 75038/
END:VEVENT
END:VCALENDAR
