BEGIN:VCALENDAR
VERSION:2.0
PRODID:-//achurchnearyou.com//eventfeed//EN
CALSCALE:GREGORIAN
METHOD:PUBLISH
X-WR-TIMEZONE:UTC
BEGIN:VEVENT
SUMMARY:Easter Sunday
DTSTART:20250420T100000Z
DTEND:20250420T110000Z
DTSTAMP:20260419T131347Z
UID:11830232025-04-20 10:00:00+00:00achurchnearyou
CATEGORIES:
DESCRIPTION:Come and Celebrate Easter Day with us
GEO:-4.140751;51.099992
LOCATION:St Augustine's
URL:https://www.achurchnearyou.com/church/9007/service-and-events/events/1
 183023/
END:VEVENT
END:VCALENDAR
