BEGIN:VCALENDAR
VERSION:2.0
PRODID:-//achurchnearyou.com//eventfeed//EN
CALSCALE:GREGORIAN
METHOD:PUBLISH
X-WR-TIMEZONE:UTC
BEGIN:VEVENT
SUMMARY:Easter Sunrise Service
DTSTART;TZID=Europe/London:20260405T061000
DTEND;TZID=Europe/London:20260405T064000
DTSTAMP:20260421T211747Z
UID:13217841775365800.0achurchnearyou
CATEGORIES:
DESCRIPTION:A short clifftop service to greet the Easter dawn
LOCATION:Above Warren Cliffs
URL:https://www.achurchnearyou.com/church/9020/service-and-events/events/1
 321784/
END:VEVENT
BEGIN:VEVENT
SUMMARY:Morning Worship
DTSTART;TZID=Europe/London:20260405T110000
DTEND;TZID=Europe/London:20260405T120000
DTSTAMP:20260421T211747Z
UID:3873521775383200.0achurchnearyou
CATEGORIES:
DESCRIPTION:This service is non-Eucharistic with hymns\, readings\, a Refl
 ection and sung 'in-house' canticles that were composed by a previous Vica
 r.
GEO:-4.516513;50.994942
LOCATION:St Nectan's
URL:https://www.achurchnearyou.com/church/9020/service-and-events/events/3
 87352/
END:VEVENT
BEGIN:VEVENT
SUMMARY:Holy Communion
DTSTART;TZID=Europe/London:20260412T110000
DTEND;TZID=Europe/London:20260412T120000
DTSTAMP:20260421T211747Z
UID:3873531775988000.0achurchnearyou
CATEGORIES:
DESCRIPTION:Holy Communion\,  sung to the St Thomas Mass setting.
GEO:-4.516513;50.994942
LOCATION:St Nectan's
URL:https://www.achurchnearyou.com/church/9020/service-and-events/events/3
 87353/
END:VEVENT
BEGIN:VEVENT
SUMMARY:Breakfast Church
DTSTART;TZID=Europe/London:20260419T100000
DTEND;TZID=Europe/London:20260419T105000
DTSTAMP:20260421T211747Z
UID:3873541776589200.0achurchnearyou
CATEGORIES:
DESCRIPTION:An informal service preceded by tea and bacon baps
LOCATION:St. Nectan's Church Rooms
URL:https://www.achurchnearyou.com/church/9020/service-and-events/events/3
 87354/
END:VEVENT
BEGIN:VEVENT
SUMMARY:Holy Communion or Morning Worship
DTSTART;TZID=Europe/London:20260426T110000
DTEND;TZID=Europe/London:20260426T120000
DTSTAMP:20260421T211747Z
UID:9980841777197600.0achurchnearyou
CATEGORIES:
DESCRIPTION:Depending on available Ministers\, a Eucharistic service or Se
 rvice of the Word.
GEO:-4.516513;50.994942
LOCATION:St Nectan's
URL:https://www.achurchnearyou.com/church/9020/service-and-events/events/9
 98084/
END:VEVENT
BEGIN:VEVENT
SUMMARY:Morning Worship
DTSTART;TZID=Europe/London:20260503T110000
DTEND;TZID=Europe/London:20260503T120000
DTSTAMP:20260421T211747Z
UID:3873521777802400.0achurchnearyou
CATEGORIES:
DESCRIPTION:This service is non-Eucharistic with hymns\, readings\, a Refl
 ection and sung 'in-house' canticles that were composed by a previous Vica
 r.
GEO:-4.516513;50.994942
LOCATION:St Nectan's
URL:https://www.achurchnearyou.com/church/9020/service-and-events/events/3
 87352/
END:VEVENT
BEGIN:VEVENT
SUMMARY:Holy Communion
DTSTART;TZID=Europe/London:20260510T110000
DTEND;TZID=Europe/London:20260510T120000
DTSTAMP:20260421T211747Z
UID:3873531778407200.0achurchnearyou
CATEGORIES:
DESCRIPTION:Holy Communion\,  sung to the St Thomas Mass setting.
GEO:-4.516513;50.994942
LOCATION:St Nectan's
URL:https://www.achurchnearyou.com/church/9020/service-and-events/events/3
 87353/
END:VEVENT
BEGIN:VEVENT
SUMMARY:Breakfast Church
DTSTART;TZID=Europe/London:20260517T100000
DTEND;TZID=Europe/London:20260517T105000
DTSTAMP:20260421T211747Z
UID:3873541779008400.0achurchnearyou
CATEGORIES:
DESCRIPTION:An informal service preceded by tea and bacon baps
LOCATION:St. Nectan's Church Rooms
URL:https://www.achurchnearyou.com/church/9020/service-and-events/events/3
 87354/
END:VEVENT
BEGIN:VEVENT
SUMMARY:Holy Communion or Morning Worship
DTSTART;TZID=Europe/London:20260524T110000
DTEND;TZID=Europe/London:20260524T120000
DTSTAMP:20260421T211747Z
UID:9980841779616800.0achurchnearyou
CATEGORIES:
DESCRIPTION:Depending on available Ministers\, a Eucharistic service or Se
 rvice of the Word.
GEO:-4.516513;50.994942
LOCATION:St Nectan's
URL:https://www.achurchnearyou.com/church/9020/service-and-events/events/9
 98084/
END:VEVENT
BEGIN:VEVENT
SUMMARY:Morning Worship
DTSTART;TZID=Europe/London:20260607T110000
DTEND;TZID=Europe/London:20260607T120000
DTSTAMP:20260421T211747Z
UID:3873521780826400.0achurchnearyou
CATEGORIES:
DESCRIPTION:This service is non-Eucharistic with hymns\, readings\, a Refl
 ection and sung 'in-house' canticles that were composed by a previous Vica
 r.
GEO:-4.516513;50.994942
LOCATION:St Nectan's
URL:https://www.achurchnearyou.com/church/9020/service-and-events/events/3
 87352/
END:VEVENT
BEGIN:VEVENT
SUMMARY:Holy Communion
DTSTART;TZID=Europe/London:20260614T110000
DTEND;TZID=Europe/London:20260614T120000
DTSTAMP:20260421T211747Z
UID:3873531781431200.0achurchnearyou
CATEGORIES:
DESCRIPTION:Holy Communion\,  sung to the St Thomas Mass setting.
GEO:-4.516513;50.994942
LOCATION:St Nectan's
URL:https://www.achurchnearyou.com/church/9020/service-and-events/events/3
 87353/
END:VEVENT
BEGIN:VEVENT
SUMMARY:Breakfast Church
DTSTART;TZID=Europe/London:20260621T100000
DTEND;TZID=Europe/London:20260621T105000
DTSTAMP:20260421T211747Z
UID:3873541782032400.0achurchnearyou
CATEGORIES:
DESCRIPTION:An informal service preceded by tea and bacon baps
LOCATION:St. Nectan's Church Rooms
URL:https://www.achurchnearyou.com/church/9020/service-and-events/events/3
 87354/
END:VEVENT
BEGIN:VEVENT
SUMMARY:Holy Communion or Morning Worship
DTSTART;TZID=Europe/London:20260628T110000
DTEND;TZID=Europe/London:20260628T120000
DTSTAMP:20260421T211747Z
UID:9980841782640800.0achurchnearyou
CATEGORIES:
DESCRIPTION:Depending on available Ministers\, a Eucharistic service or Se
 rvice of the Word.
GEO:-4.516513;50.994942
LOCATION:St Nectan's
URL:https://www.achurchnearyou.com/church/9020/service-and-events/events/9
 98084/
END:VEVENT
BEGIN:VEVENT
SUMMARY:Morning Worship
DTSTART;TZID=Europe/London:20260705T110000
DTEND;TZID=Europe/London:20260705T120000
DTSTAMP:20260421T211747Z
UID:3873521783245600.0achurchnearyou
CATEGORIES:
DESCRIPTION:This service is non-Eucharistic with hymns\, readings\, a Refl
 ection and sung 'in-house' canticles that were composed by a previous Vica
 r.
GEO:-4.516513;50.994942
LOCATION:St Nectan's
URL:https://www.achurchnearyou.com/church/9020/service-and-events/events/3
 87352/
END:VEVENT
BEGIN:VEVENT
SUMMARY:Holy Communion
DTSTART;TZID=Europe/London:20260712T110000
DTEND;TZID=Europe/London:20260712T120000
DTSTAMP:20260421T211747Z
UID:3873531783850400.0achurchnearyou
CATEGORIES:
DESCRIPTION:Holy Communion\,  sung to the St Thomas Mass setting.
GEO:-4.516513;50.994942
LOCATION:St Nectan's
URL:https://www.achurchnearyou.com/church/9020/service-and-events/events/3
 87353/
END:VEVENT
BEGIN:VEVENT
SUMMARY:Breakfast Church
DTSTART;TZID=Europe/London:20260719T100000
DTEND;TZID=Europe/London:20260719T105000
DTSTAMP:20260421T211747Z
UID:3873541784451600.0achurchnearyou
CATEGORIES:
DESCRIPTION:An informal service preceded by tea and bacon baps
LOCATION:St. Nectan's Church Rooms
URL:https://www.achurchnearyou.com/church/9020/service-and-events/events/3
 87354/
END:VEVENT
BEGIN:VEVENT
SUMMARY:Holy Communion or Morning Worship
DTSTART;TZID=Europe/London:20260726T110000
DTEND;TZID=Europe/London:20260726T120000
DTSTAMP:20260421T211747Z
UID:9980841785060000.0achurchnearyou
CATEGORIES:
DESCRIPTION:Depending on available Ministers\, a Eucharistic service or Se
 rvice of the Word.
GEO:-4.516513;50.994942
LOCATION:St Nectan's
URL:https://www.achurchnearyou.com/church/9020/service-and-events/events/9
 98084/
END:VEVENT
BEGIN:VEVENT
SUMMARY:Morning Worship
DTSTART;TZID=Europe/London:20260802T110000
DTEND;TZID=Europe/London:20260802T120000
DTSTAMP:20260421T211747Z
UID:3873521785664800.0achurchnearyou
CATEGORIES:
DESCRIPTION:This service is non-Eucharistic with hymns\, readings\, a Refl
 ection and sung 'in-house' canticles that were composed by a previous Vica
 r.
GEO:-4.516513;50.994942
LOCATION:St Nectan's
URL:https://www.achurchnearyou.com/church/9020/service-and-events/events/3
 87352/
END:VEVENT
BEGIN:VEVENT
SUMMARY:Holy Communion
DTSTART;TZID=Europe/London:20260809T110000
DTEND;TZID=Europe/London:20260809T120000
DTSTAMP:20260421T211747Z
UID:3873531786269600.0achurchnearyou
CATEGORIES:
DESCRIPTION:Holy Communion\,  sung to the St Thomas Mass setting.
GEO:-4.516513;50.994942
LOCATION:St Nectan's
URL:https://www.achurchnearyou.com/church/9020/service-and-events/events/3
 87353/
END:VEVENT
BEGIN:VEVENT
SUMMARY:Breakfast Church
DTSTART;TZID=Europe/London:20260816T100000
DTEND;TZID=Europe/London:20260816T105000
DTSTAMP:20260421T211747Z
UID:3873541786870800.0achurchnearyou
CATEGORIES:
DESCRIPTION:An informal service preceded by tea and bacon baps
LOCATION:St. Nectan's Church Rooms
URL:https://www.achurchnearyou.com/church/9020/service-and-events/events/3
 87354/
END:VEVENT
BEGIN:VEVENT
SUMMARY:Holy Communion or Morning Worship
DTSTART;TZID=Europe/London:20260823T110000
DTEND;TZID=Europe/London:20260823T120000
DTSTAMP:20260421T211747Z
UID:9980841787479200.0achurchnearyou
CATEGORIES:
DESCRIPTION:Depending on available Ministers\, a Eucharistic service or Se
 rvice of the Word.
GEO:-4.516513;50.994942
LOCATION:St Nectan's
URL:https://www.achurchnearyou.com/church/9020/service-and-events/events/9
 98084/
END:VEVENT
BEGIN:VEVENT
SUMMARY:Morning Worship
DTSTART;TZID=Europe/London:20260906T110000
DTEND;TZID=Europe/London:20260906T120000
DTSTAMP:20260421T211747Z
UID:3873521788688800.0achurchnearyou
CATEGORIES:
DESCRIPTION:This service is non-Eucharistic with hymns\, readings\, a Refl
 ection and sung 'in-house' canticles that were composed by a previous Vica
 r.
GEO:-4.516513;50.994942
LOCATION:St Nectan's
URL:https://www.achurchnearyou.com/church/9020/service-and-events/events/3
 87352/
END:VEVENT
BEGIN:VEVENT
SUMMARY:Holy Communion
DTSTART;TZID=Europe/London:20260913T110000
DTEND;TZID=Europe/London:20260913T120000
DTSTAMP:20260421T211747Z
UID:3873531789293600.0achurchnearyou
CATEGORIES:
DESCRIPTION:Holy Communion\,  sung to the St Thomas Mass setting.
GEO:-4.516513;50.994942
LOCATION:St Nectan's
URL:https://www.achurchnearyou.com/church/9020/service-and-events/events/3
 87353/
END:VEVENT
BEGIN:VEVENT
SUMMARY:Breakfast Church
DTSTART;TZID=Europe/London:20260920T100000
DTEND;TZID=Europe/London:20260920T105000
DTSTAMP:20260421T211747Z
UID:3873541789894800.0achurchnearyou
CATEGORIES:
DESCRIPTION:An informal service preceded by tea and bacon baps
LOCATION:St. Nectan's Church Rooms
URL:https://www.achurchnearyou.com/church/9020/service-and-events/events/3
 87354/
END:VEVENT
BEGIN:VEVENT
SUMMARY:Holy Communion or Morning Worship
DTSTART;TZID=Europe/London:20260927T110000
DTEND;TZID=Europe/London:20260927T120000
DTSTAMP:20260421T211747Z
UID:9980841790503200.0achurchnearyou
CATEGORIES:
DESCRIPTION:Depending on available Ministers\, a Eucharistic service or Se
 rvice of the Word.
GEO:-4.516513;50.994942
LOCATION:St Nectan's
URL:https://www.achurchnearyou.com/church/9020/service-and-events/events/9
 98084/
END:VEVENT
END:VCALENDAR
