BEGIN:VCALENDAR
VERSION:2.0
PRODID:-//achurchnearyou.com//eventfeed//EN
CALSCALE:GREGORIAN
METHOD:PUBLISH
X-WR-TIMEZONE:UTC
BEGIN:VEVENT
SUMMARY:TORCHLIGHT PROCESSION
DTSTART:20251222T184500Z
DTEND:20251222T200000Z
DTSTAMP:20260422T113804Z
UID:12753292025-12-22 18:45:00+00:00achurchnearyou
CATEGORIES:
DESCRIPTION:ST. MARY'S CHURCH APPLEDORE \nMONDAY 22ND DECEMBER\nAPPLEDORE 
 TORCHLIGHT PROCESSION\nFROM PITT HILL 6.45PM -7PM SERVICE IN CHURCH
GEO:-4.19313;51.054681
LOCATION:St Mary's\, Appledore\, North Devon
URL:https://www.achurchnearyou.com/church/9034/service-and-events/events/1
 275329/
END:VEVENT
END:VCALENDAR
