BEGIN:VCALENDAR
VERSION:2.0
PRODID:-//achurchnearyou.com//eventfeed//EN
CALSCALE:GREGORIAN
METHOD:PUBLISH
X-WR-TIMEZONE:UTC
BEGIN:VEVENT
SUMMARY:LENT SERVICES
DTSTART:20260318T183000Z
DTEND:20260318T200000Z
DTSTAMP:20260422T055658Z
UID:12919532026-03-18 18:30:00+00:00achurchnearyou
CATEGORIES:
DESCRIPTION:DATES OF SERVICES LEADING UP TO EASTER
GEO:-4.19313;51.054681
LOCATION:St Mary's\, Appledore\, North Devon
URL:https://www.achurchnearyou.com/church/9034/service-and-events/events/1
 291953/
END:VEVENT
END:VCALENDAR
