BEGIN:VCALENDAR
VERSION:2.0
PRODID:-//achurchnearyou.com//eventfeed//EN
CALSCALE:GREGORIAN
METHOD:PUBLISH
X-WR-TIMEZONE:UTC
BEGIN:VEVENT
SUMMARY:Summer Coffee Morning
DTSTART:20250604T090000Z
DTEND:20250604T110000Z
DTSTAMP:20260425T220748Z
UID:11985142025-06-04 09:00:00+00:00achurchnearyou
CATEGORIES:
DESCRIPTION:"Bring & Buy" Plant & Cake Stalls.\nEntrance £7.00 includes C
 offee & Cake.\nAdditional donations will be welcome.\nChildren Free Entran
 ce!!
LOCATION:Pill Head House and the Potting Shed's Walled Garden.
URL:https://www.achurchnearyou.com/church/9039/service-and-events/events/1
 198514/
END:VEVENT
END:VCALENDAR
