BEGIN:VCALENDAR
VERSION:2.0
PRODID:-//achurchnearyou.com//eventfeed//EN
CALSCALE:GREGORIAN
METHOD:PUBLISH
X-WR-TIMEZONE:UTC
BEGIN:VEVENT
SUMMARY:Christingle Service
DTSTART:20260111T090000Z
DTEND:20260111T103000Z
DTSTAMP:20260425T050452Z
UID:12749282026-01-11 09:00:00+00:00achurchnearyou
CATEGORIES:
DESCRIPTION:9.00 Breakfast followed by our Christingle Service.\nDonations
  can be made via the link: - https://www.childrenssociety.org.uk/christing
 le/parish-church-st-peter\nor by donating using "Givestar" and following t
 he links to St. Peter's Church Fremington.\nor by donating at the Service.
GEO:-4.179879;51.036756
LOCATION:St Peter's - Westleigh Parish Church
URL:https://www.achurchnearyou.com/church/9039/service-and-events/events/1
 274928/
END:VEVENT
END:VCALENDAR
