BEGIN:VCALENDAR
VERSION:2.0
PRODID:-//achurchnearyou.com//eventfeed//EN
CALSCALE:GREGORIAN
METHOD:PUBLISH
X-WR-TIMEZONE:UTC
BEGIN:VEVENT
SUMMARY:Remembrance Day Service
DTSTART:20251109T143000Z
DTEND:20251109T153000Z
DTSTAMP:20260422T161438Z
UID:12418732025-11-09 14:30:00+00:00achurchnearyou
CATEGORIES:
DESCRIPTION:A service held at War Memorial
LOCATION:St Stephen
URL:https://www.achurchnearyou.com/church/9050/service-and-events/events/1
 241873/
END:VEVENT
END:VCALENDAR
