BEGIN:VCALENDAR
VERSION:2.0
PRODID:-//achurchnearyou.com//eventfeed//EN
CALSCALE:GREGORIAN
METHOD:PUBLISH
X-WR-TIMEZONE:UTC
BEGIN:VEVENT
SUMMARY:Patronal Festival
DTSTART:20250629T173000Z
DTEND:20250629T183000Z
DTSTAMP:20260422T233250Z
UID:12025082025-06-29 17:30:00+00:00achurchnearyou
CATEGORIES:
DESCRIPTION:A service of celebration led by Rev Mark
LOCATION:St John the Baptist and the Seven Maccabees
URL:https://www.achurchnearyou.com/church/9051/service-and-events/events/1
 202508/
END:VEVENT
END:VCALENDAR
