BEGIN:VCALENDAR
VERSION:2.0
PRODID:-//achurchnearyou.com//eventfeed//EN
CALSCALE:GREGORIAN
METHOD:PUBLISH
X-WR-TIMEZONE:UTC
BEGIN:VEVENT
SUMMARY:Stations of the Cross
DTSTART:20260403T130000Z
DTEND:20260403T140000Z
DTSTAMP:20260422T050743Z
UID:13040022026-04-03 13:00:00+00:00achurchnearyou
CATEGORIES:
DESCRIPTION:A traditional service for Good Friday
GEO:-4.298227;50.896188
LOCATION:St James
URL:https://www.achurchnearyou.com/church/9051/service-and-events/events/1
 304002/
END:VEVENT
END:VCALENDAR
