BEGIN:VCALENDAR
VERSION:2.0
PRODID:-//achurchnearyou.com//eventfeed//EN
CALSCALE:GREGORIAN
METHOD:PUBLISH
X-WR-TIMEZONE:UTC
BEGIN:VEVENT
SUMMARY:Morning Prayer Service
DTSTART:20260516T090000Z
DTEND:20260516T100000Z
DTSTAMP:20260419T211041Z
UID:13245152026-05-16 09:00:00+00:00achurchnearyou
CATEGORIES:
DESCRIPTION:A service of Morning Prayer using BCP - led by Rev Mark
LOCATION:St Stephen
URL:https://www.achurchnearyou.com/church/9054/service-and-events/events/1
 324515/
END:VEVENT
END:VCALENDAR
