BEGIN:VCALENDAR
VERSION:2.0
PRODID:-//achurchnearyou.com//eventfeed//EN
CALSCALE:GREGORIAN
METHOD:PUBLISH
X-WR-TIMEZONE:UTC
BEGIN:VEVENT
SUMMARY:Holy Communion
DTSTART:20260118T100000Z
DTEND:20260118T110000Z
DTSTAMP:20260420T150717Z
UID:12790932026-01-18 10:00:00+00:00achurchnearyou
CATEGORIES:
DESCRIPTION:A service of Holy Communion led by Rev Mark
LOCATION:St Peter
URL:https://www.achurchnearyou.com/church/9057/service-and-events/events/1
 279093/
END:VEVENT
END:VCALENDAR
