BEGIN:VCALENDAR
VERSION:2.0
PRODID:-//achurchnearyou.com//eventfeed//EN
CALSCALE:GREGORIAN
METHOD:PUBLISH
X-WR-TIMEZONE:UTC
BEGIN:VEVENT
SUMMARY:Holy Communion with Hymns
DTSTART:20260315T093000Z
DTEND:20260315T103000Z
DTSTAMP:20260420T112532Z
UID:13039072026-03-15 09:30:00+00:00achurchnearyou
CATEGORIES:
DESCRIPTION:A service led by Rev Mark
LOCATION:St Peter
URL:https://www.achurchnearyou.com/church/9057/service-and-events/events/1
 303907/
END:VEVENT
END:VCALENDAR
