BEGIN:VCALENDAR
VERSION:2.0
PRODID:-//achurchnearyou.com//eventfeed//EN
CALSCALE:GREGORIAN
METHOD:PUBLISH
X-WR-TIMEZONE:UTC
BEGIN:VEVENT
SUMMARY:Evening Prayer
DTSTART:20260516T170000Z
DTEND:20260516T180000Z
DTSTAMP:20260420T053605Z
UID:13245262026-05-16 17:00:00+00:00achurchnearyou
CATEGORIES:
DESCRIPTION:A service of Evening Prayer using BCP - led by Rev Mark
LOCATION:St John the Baptist
URL:https://www.achurchnearyou.com/church/9057/service-and-events/events/1
 324526/
END:VEVENT
END:VCALENDAR
