BEGIN:VCALENDAR
VERSION:2.0
PRODID:-//achurchnearyou.com//eventfeed//EN
CALSCALE:GREGORIAN
METHOD:PUBLISH
X-WR-TIMEZONE:UTC
BEGIN:VEVENT
SUMMARY:Maundy Thursday service
DTSTART;TZID=Europe/London:20260402T190000
DTEND;TZID=Europe/London:20260402T200000
DTSTAMP:20260420T073149Z
UID:13039861775152800.0achurchnearyou
CATEGORIES:
DESCRIPTION:A service led by Rev Mark
LOCATION:St Peter
URL:https://www.achurchnearyou.com/church/9057/service-and-events/events/1
 303986/
END:VEVENT
BEGIN:VEVENT
SUMMARY:Good Friday Walk of Witness
DTSTART;TZID=Europe/London:20260403T110000
DTEND;TZID=Europe/London:20260403T120000
DTSTAMP:20260420T073149Z
UID:13039971775210400.0achurchnearyou
CATEGORIES:
DESCRIPTION:A walk of witness held annually at Bradworthy
LOCATION:St John the Baptist
URL:https://www.achurchnearyou.com/church/9057/service-and-events/events/1
 303997/
END:VEVENT
BEGIN:VEVENT
SUMMARY:Stations of the Cross
DTSTART;TZID=Europe/London:20260403T140000
DTEND;TZID=Europe/London:20260403T150000
DTSTAMP:20260420T073149Z
UID:13040061775221200.0achurchnearyou
CATEGORIES:
DESCRIPTION:A traditional service for Good Friday
LOCATION:St James
URL:https://www.achurchnearyou.com/church/9057/service-and-events/events/1
 304006/
END:VEVENT
BEGIN:VEVENT
SUMMARY:Service of Light
DTSTART;TZID=Europe/London:20260404T190000
DTEND;TZID=Europe/London:20260404T200000
DTSTAMP:20260420T073149Z
UID:13040161775325600.0achurchnearyou
CATEGORIES:
DESCRIPTION:A special service for Easter Saturday
LOCATION:St Stephen
URL:https://www.achurchnearyou.com/church/9057/service-and-events/events/1
 304016/
END:VEVENT
BEGIN:VEVENT
SUMMARY:Easter Sunday Morning Prayer
DTSTART;TZID=Europe/London:20260405T093000
DTEND;TZID=Europe/London:20260405T103000
DTSTAMP:20260420T073149Z
UID:13040281775377800.0achurchnearyou
CATEGORIES:
DESCRIPTION:A service for Easter Sunday - lay led
LOCATION:St Andrew
URL:https://www.achurchnearyou.com/church/9057/service-and-events/events/1
 304028/
END:VEVENT
BEGIN:VEVENT
SUMMARY:Holy Communion with Hymns
DTSTART;TZID=Europe/London:20260405T093000
DTEND;TZID=Europe/London:20260405T103000
DTSTAMP:20260420T073149Z
UID:13040381775377800.0achurchnearyou
CATEGORIES:
DESCRIPTION:A service for Easter Day led by Rev Mark
LOCATION:St Peter
URL:https://www.achurchnearyou.com/church/9057/service-and-events/events/1
 304038/
END:VEVENT
BEGIN:VEVENT
SUMMARY:Holy Communion with Hymns
DTSTART;TZID=Europe/London:20260405T113000
DTEND;TZID=Europe/London:20260405T123000
DTSTAMP:20260420T073149Z
UID:13040581775385000.0achurchnearyou
CATEGORIES:
DESCRIPTION:A service for Easter Day led by Rev Mark
LOCATION:St John the Baptist
URL:https://www.achurchnearyou.com/church/9057/service-and-events/events/1
 304058/
END:VEVENT
BEGIN:VEVENT
SUMMARY:Morning Prayer Service
DTSTART;TZID=Europe/London:20260419T093000
DTEND;TZID=Europe/London:20260419T101500
DTSTAMP:20260420T073149Z
UID:13238701776587400.0achurchnearyou
CATEGORIES:
DESCRIPTION:A short service of Morning Prayer - Lay led
LOCATION:St Andrew
URL:https://www.achurchnearyou.com/church/9057/service-and-events/events/1
 323870/
END:VEVENT
BEGIN:VEVENT
SUMMARY:Morning Prayer Service
DTSTART;TZID=Europe/London:20260426T093000
DTEND;TZID=Europe/London:20260426T103000
DTSTAMP:20260420T073149Z
UID:13239111777192200.0achurchnearyou
CATEGORIES:
DESCRIPTION:A service of Morning Prayer - Lay led
LOCATION:All Saints
URL:https://www.achurchnearyou.com/church/9057/service-and-events/events/1
 323911/
END:VEVENT
BEGIN:VEVENT
SUMMARY:Holy Communion
DTSTART;TZID=Europe/London:20260426T093000
DTEND;TZID=Europe/London:20260426T103000
DTSTAMP:20260420T073149Z
UID:13239021777192200.0achurchnearyou
CATEGORIES:
DESCRIPTION:A service of  Holy Communion led by Rev Mark
LOCATION:St Andrew
URL:https://www.achurchnearyou.com/church/9057/service-and-events/events/1
 323902/
END:VEVENT
BEGIN:VEVENT
SUMMARY:Combined Service with Chapel
DTSTART;TZID=Europe/London:20260426T110000
DTEND;TZID=Europe/London:20260426T120000
DTSTAMP:20260420T073149Z
UID:13239241777197600.0achurchnearyou
CATEGORIES:
DESCRIPTION:A joint service with the Chapel led by Rev Mark
LOCATION:St John the Baptist
URL:https://www.achurchnearyou.com/church/9057/service-and-events/events/1
 323924/
END:VEVENT
BEGIN:VEVENT
SUMMARY:Morning Prayer Service
DTSTART;TZID=Europe/London:20260503T093000
DTEND;TZID=Europe/London:20260503T101500
DTSTAMP:20260420T073149Z
UID:13239331777797000.0achurchnearyou
CATEGORIES:
DESCRIPTION:A short service of Morning Prayer - Lay led
LOCATION:St Andrew
URL:https://www.achurchnearyou.com/church/9057/service-and-events/events/1
 323933/
END:VEVENT
BEGIN:VEVENT
SUMMARY:Holy Communion
DTSTART;TZID=Europe/London:20260503T093000
DTEND;TZID=Europe/London:20260503T103000
DTSTAMP:20260420T073149Z
UID:13239421777797000.0achurchnearyou
CATEGORIES:
DESCRIPTION:A service of Holy Communion led by Rev Mark
LOCATION:All Saints
URL:https://www.achurchnearyou.com/church/9057/service-and-events/events/1
 323942/
END:VEVENT
BEGIN:VEVENT
SUMMARY:Holy Communion with Hymns
DTSTART;TZID=Europe/London:20260503T113000
DTEND;TZID=Europe/London:20260503T123000
DTSTAMP:20260420T073149Z
UID:13239541777804200.0achurchnearyou
CATEGORIES:
DESCRIPTION:A service of Holy Communion led by Rev Mark
LOCATION:St John the Baptist
URL:https://www.achurchnearyou.com/church/9057/service-and-events/events/1
 323954/
END:VEVENT
BEGIN:VEVENT
SUMMARY:Holy Communion
DTSTART;TZID=Europe/London:20260510T093000
DTEND;TZID=Europe/London:20260510T103000
DTSTAMP:20260420T073149Z
UID:13239731778401800.0achurchnearyou
CATEGORIES:
DESCRIPTION:A service of Holy Communion led by Rev Mark
LOCATION:St Andrew
URL:https://www.achurchnearyou.com/church/9057/service-and-events/events/1
 323973/
END:VEVENT
BEGIN:VEVENT
SUMMARY:Family Service
DTSTART;TZID=Europe/London:20260510T113000
DTEND;TZID=Europe/London:20260510T123000
DTSTAMP:20260420T073149Z
UID:13239641778409000.0achurchnearyou
CATEGORIES:
DESCRIPTION:An informal service suitable for all the family - led by Rev M
 ark
LOCATION:St John the Baptist
URL:https://www.achurchnearyou.com/church/9057/service-and-events/events/1
 323964/
END:VEVENT
BEGIN:VEVENT
SUMMARY:Holy Communion
DTSTART;TZID=Europe/London:20260510T180000
DTEND;TZID=Europe/London:20260510T190000
DTSTAMP:20260420T073149Z
UID:13239821778432400.0achurchnearyou
CATEGORIES:
DESCRIPTION:A service of Holy Communion led by Rev Mark
GEO:-4.297471;50.873322
LOCATION:Holy Trinity Church\, Milton Damerel
URL:https://www.achurchnearyou.com/church/9057/service-and-events/events/1
 323982/
END:VEVENT
BEGIN:VEVENT
SUMMARY:Morning Prayer Service
DTSTART;TZID=Europe/London:20260514T100000
DTEND;TZID=Europe/London:20260514T104500
DTSTAMP:20260420T073149Z
UID:13244751778749200.0achurchnearyou
CATEGORIES:
DESCRIPTION:A service of Morning Prayer using the Book of Common Prayer - 
 led by Rev Mark
LOCATION:St Andrew
URL:https://www.achurchnearyou.com/church/9057/service-and-events/events/1
 324475/
END:VEVENT
BEGIN:VEVENT
SUMMARY:Evening Prayer
DTSTART;TZID=Europe/London:20260514T180000
DTEND;TZID=Europe/London:20260514T190000
DTSTAMP:20260420T073149Z
UID:13244841778778000.0achurchnearyou
CATEGORIES:
DESCRIPTION:A service of Evening Prayer using Book of Common Prayer - led 
 by Rev Mark
LOCATION:St John the Baptist
URL:https://www.achurchnearyou.com/church/9057/service-and-events/events/1
 324484/
END:VEVENT
BEGIN:VEVENT
SUMMARY:Morning Prayer Service
DTSTART;TZID=Europe/London:20260515T100000
DTEND;TZID=Europe/London:20260515T110000
DTSTAMP:20260420T073149Z
UID:13244931778835600.0achurchnearyou
CATEGORIES:
DESCRIPTION:A service of Morning Prayer using Book of Common Prayer - led 
 by Rev Mark
LOCATION:St Peter
URL:https://www.achurchnearyou.com/church/9057/service-and-events/events/1
 324493/
END:VEVENT
BEGIN:VEVENT
SUMMARY:Evening Prayer
DTSTART;TZID=Europe/London:20260515T180000
DTEND;TZID=Europe/London:20260515T190000
DTSTAMP:20260420T073149Z
UID:13245041778864400.0achurchnearyou
CATEGORIES:
DESCRIPTION:A service of Evening Prayer using Book of Common Prayer - led 
 by Rev Mark
LOCATION:St John the Baptist
URL:https://www.achurchnearyou.com/church/9057/service-and-events/events/1
 324504/
END:VEVENT
BEGIN:VEVENT
SUMMARY:Morning Prayer Service
DTSTART;TZID=Europe/London:20260516T100000
DTEND;TZID=Europe/London:20260516T110000
DTSTAMP:20260420T073149Z
UID:13245161778922000.0achurchnearyou
CATEGORIES:
DESCRIPTION:A service of Morning Prayer using BCP - led by Rev Mark
LOCATION:St Stephen
URL:https://www.achurchnearyou.com/church/9057/service-and-events/events/1
 324516/
END:VEVENT
BEGIN:VEVENT
SUMMARY:Evening Prayer
DTSTART;TZID=Europe/London:20260516T180000
DTEND;TZID=Europe/London:20260516T190000
DTSTAMP:20260420T073149Z
UID:13245261778950800.0achurchnearyou
CATEGORIES:
DESCRIPTION:A service of Evening Prayer using BCP - led by Rev Mark
LOCATION:St John the Baptist
URL:https://www.achurchnearyou.com/church/9057/service-and-events/events/1
 324526/
END:VEVENT
BEGIN:VEVENT
SUMMARY:Morning Prayer Service
DTSTART;TZID=Europe/London:20260517T093000
DTEND;TZID=Europe/London:20260517T101500
DTSTAMP:20260420T073149Z
UID:13240011779006600.0achurchnearyou
CATEGORIES:
DESCRIPTION:A short service of Morning Prayer - Lay led
LOCATION:St Andrew
URL:https://www.achurchnearyou.com/church/9057/service-and-events/events/1
 324001/
END:VEVENT
BEGIN:VEVENT
SUMMARY:Holy Communion
DTSTART;TZID=Europe/London:20260517T093000
DTEND;TZID=Europe/London:20260517T103000
DTSTAMP:20260420T073149Z
UID:13239911779006600.0achurchnearyou
CATEGORIES:
DESCRIPTION:A service of Holy Communion led by Rev Mark
LOCATION:St Peter
URL:https://www.achurchnearyou.com/church/9057/service-and-events/events/1
 323991/
END:VEVENT
BEGIN:VEVENT
SUMMARY:Holy Communion
DTSTART;TZID=Europe/London:20260517T113000
DTEND;TZID=Europe/London:20260517T123000
DTSTAMP:20260420T073149Z
UID:13240111779013800.0achurchnearyou
CATEGORIES:
DESCRIPTION:A service of Holy Communion led by Rev  Mark
LOCATION:St James
URL:https://www.achurchnearyou.com/church/9057/service-and-events/events/1
 324011/
END:VEVENT
BEGIN:VEVENT
SUMMARY:Morning Prayer Service
DTSTART;TZID=Europe/London:20260518T100000
DTEND;TZID=Europe/London:20260518T110000
DTSTAMP:20260420T073149Z
UID:13245351779094800.0achurchnearyou
CATEGORIES:
DESCRIPTION:A service of Morning Prayer using BCP - led by Rev Mark
GEO:-4.297471;50.873322
LOCATION:Holy Trinity Church\, Milton Damerel
URL:https://www.achurchnearyou.com/church/9057/service-and-events/events/1
 324535/
END:VEVENT
BEGIN:VEVENT
SUMMARY:Evening Prayer
DTSTART;TZID=Europe/London:20260518T180000
DTEND;TZID=Europe/London:20260518T190000
DTSTAMP:20260420T073149Z
UID:13245451779123600.0achurchnearyou
CATEGORIES:
DESCRIPTION:A service of Evening Prayer using BCP - led by Rev Mark
LOCATION:St John the Baptist
URL:https://www.achurchnearyou.com/church/9057/service-and-events/events/1
 324545/
END:VEVENT
BEGIN:VEVENT
SUMMARY:Morning Prayer Service
DTSTART;TZID=Europe/London:20260519T100000
DTEND;TZID=Europe/London:20260519T110000
DTSTAMP:20260420T073149Z
UID:13245551779181200.0achurchnearyou
CATEGORIES:
DESCRIPTION:A service of Morning Prayer using BCP - led by Rev Mark
LOCATION:All Saints
URL:https://www.achurchnearyou.com/church/9057/service-and-events/events/1
 324555/
END:VEVENT
BEGIN:VEVENT
SUMMARY:Evening Prayer
DTSTART;TZID=Europe/London:20260519T180000
DTEND;TZID=Europe/London:20260519T190000
DTSTAMP:20260420T073149Z
UID:13245651779210000.0achurchnearyou
CATEGORIES:
DESCRIPTION:A service of Evening Prayer using BCP - led by Rev Mark
LOCATION:St John the Baptist
URL:https://www.achurchnearyou.com/church/9057/service-and-events/events/1
 324565/
END:VEVENT
BEGIN:VEVENT
SUMMARY:Morning Prayer Service
DTSTART;TZID=Europe/London:20260520T100000
DTEND;TZID=Europe/London:20260520T110000
DTSTAMP:20260420T073149Z
UID:13245741779267600.0achurchnearyou
CATEGORIES:
DESCRIPTION:A service of Morning Prayer using BCP - led by Rev Mark
LOCATION:St James
URL:https://www.achurchnearyou.com/church/9057/service-and-events/events/1
 324574/
END:VEVENT
BEGIN:VEVENT
SUMMARY:Evening Prayer
DTSTART;TZID=Europe/London:20260520T180000
DTEND;TZID=Europe/London:20260520T190000
DTSTAMP:20260420T073149Z
UID:13245841779296400.0achurchnearyou
CATEGORIES:
DESCRIPTION:A service of Evening Prayer using BCP - led by Rev Mark
LOCATION:St John the Baptist
URL:https://www.achurchnearyou.com/church/9057/service-and-events/events/1
 324584/
END:VEVENT
BEGIN:VEVENT
SUMMARY:Morning Prayer Service
DTSTART;TZID=Europe/London:20260521T100000
DTEND;TZID=Europe/London:20260521T110000
DTSTAMP:20260420T073149Z
UID:13245931779354000.0achurchnearyou
CATEGORIES:
DESCRIPTION:A service of Morning Prayer using BCP - led by Rev Mark
LOCATION:St John the Baptist and the Seven Maccabees
URL:https://www.achurchnearyou.com/church/9057/service-and-events/events/1
 324593/
END:VEVENT
BEGIN:VEVENT
SUMMARY:Evening Prayer
DTSTART;TZID=Europe/London:20260521T180000
DTEND;TZID=Europe/London:20260521T190000
DTSTAMP:20260420T073149Z
UID:13246021779382800.0achurchnearyou
CATEGORIES:
DESCRIPTION:A service of Evening Prayer using BCP - led by Rev Mark
LOCATION:St John the Baptist
URL:https://www.achurchnearyou.com/church/9057/service-and-events/events/1
 324602/
END:VEVENT
BEGIN:VEVENT
SUMMARY:Morning Prayer Service
DTSTART;TZID=Europe/London:20260522T100000
DTEND;TZID=Europe/London:20260522T110000
DTSTAMP:20260420T073149Z
UID:13246131779440400.0achurchnearyou
CATEGORIES:
DESCRIPTION:A service of Morning Prayer using BCP - led by Rev Mark
LOCATION:St Michael
URL:https://www.achurchnearyou.com/church/9057/service-and-events/events/1
 324613/
END:VEVENT
BEGIN:VEVENT
SUMMARY:Evening Prayer
DTSTART;TZID=Europe/London:20260522T100000
DTEND;TZID=Europe/London:20260522T110000
DTSTAMP:20260420T073149Z
UID:13246221779440400.0achurchnearyou
CATEGORIES:
DESCRIPTION:A service of Evening Prayer using BCP - led by Rev Mark
LOCATION:St John the Baptist
URL:https://www.achurchnearyou.com/church/9057/service-and-events/events/1
 324622/
END:VEVENT
BEGIN:VEVENT
SUMMARY:Morning Prayer Service
DTSTART;TZID=Europe/London:20260523T100000
DTEND;TZID=Europe/London:20260523T110000
DTSTAMP:20260420T073149Z
UID:13246311779526800.0achurchnearyou
CATEGORIES:
DESCRIPTION:A service of Morning Prayer using BCP - led by Rev Mark
LOCATION:St John the Baptist
URL:https://www.achurchnearyou.com/church/9057/service-and-events/events/1
 324631/
END:VEVENT
BEGIN:VEVENT
SUMMARY:Evening Prayer
DTSTART;TZID=Europe/London:20260523T180000
DTEND;TZID=Europe/London:20260523T190000
DTSTAMP:20260420T073149Z
UID:13246401779555600.0achurchnearyou
CATEGORIES:
DESCRIPTION:A service of Evening Prayer using BCP - led by Rev Mark
LOCATION:St John the Baptist
URL:https://www.achurchnearyou.com/church/9057/service-and-events/events/1
 324640/
END:VEVENT
BEGIN:VEVENT
SUMMARY:Holy Communion
DTSTART;TZID=Europe/London:20260524T093000
DTEND;TZID=Europe/London:20260524T103000
DTSTAMP:20260420T073149Z
UID:13240211779611400.0achurchnearyou
CATEGORIES:
DESCRIPTION:A service of Holy Communion led by Rev Mark
LOCATION:St Andrew
URL:https://www.achurchnearyou.com/church/9057/service-and-events/events/1
 324021/
END:VEVENT
BEGIN:VEVENT
SUMMARY:Morning Prayer Service
DTSTART;TZID=Europe/London:20260524T093000
DTEND;TZID=Europe/London:20260524T103000
DTSTAMP:20260420T073149Z
UID:13244541779611400.0achurchnearyou
CATEGORIES:
DESCRIPTION:A service of Morning Prayer - Lay led
LOCATION:St Peter
URL:https://www.achurchnearyou.com/church/9057/service-and-events/events/1
 324454/
END:VEVENT
BEGIN:VEVENT
SUMMARY:Combined Service with Chapel
DTSTART;TZID=Europe/London:20260524T110000
DTEND;TZID=Europe/London:20260524T120000
DTSTAMP:20260420T073149Z
UID:13240311779616800.0achurchnearyou
CATEGORIES:
DESCRIPTION:A joint service with the Chapel
LOCATION:Bradworthy Chapel
URL:https://www.achurchnearyou.com/church/9057/service-and-events/events/1
 324031/
END:VEVENT
BEGIN:VEVENT
SUMMARY:Benefice Holy Communion Service
DTSTART;TZID=Europe/London:20260531T103000
DTEND;TZID=Europe/London:20260531T113000
DTSTAMP:20260420T073149Z
UID:13240471780219800.0achurchnearyou
CATEGORIES:
DESCRIPTION:A united service of Holy Communion for the whole Benefice led 
 by Rev Mark
GEO:-4.297471;50.873322
LOCATION:Holy Trinity Church\, Milton Damerel
URL:https://www.achurchnearyou.com/church/9057/service-and-events/events/1
 324047/
END:VEVENT
END:VCALENDAR
