BEGIN:VCALENDAR
VERSION:2.0
PRODID:-//achurchnearyou.com//eventfeed//EN
CALSCALE:GREGORIAN
METHOD:PUBLISH
X-WR-TIMEZONE:UTC
BEGIN:VEVENT
SUMMARY:Easter Egg Hunt
DTSTART:20260404T130000Z
DTEND:20260404T140000Z
DTSTAMP:20260424T234035Z
UID:13180532026-04-04 13:00:00+00:00achurchnearyou
CATEGORIES:
DESCRIPTION:Come along to our Easter trail to follow the clues to win a sm
 all chocolate egg! Come down the driveway to the left of St Francis into o
 ur eco field to join in the fun anytime between 2 & 3pm. It's free.\n\n#Ea
 ster2026
GEO:1.332717;52.643543
LOCATION:St Francis\, Heartsease
URL:https://www.achurchnearyou.com/church/908/service-and-events/events/13
 18053/
END:VEVENT
END:VCALENDAR
