BEGIN:VCALENDAR
VERSION:2.0
PRODID:-//achurchnearyou.com//eventfeed//EN
CALSCALE:GREGORIAN
METHOD:PUBLISH
X-WR-TIMEZONE:UTC
BEGIN:VEVENT
SUMMARY:Cake and Coffee and Chat
DTSTART;TZID=Europe/London:20260512T100000
DTEND;TZID=Europe/London:20260512T120000
DTSTAMP:20260419T230313Z
UID:10210452026-05-12 10:00:00+01:00achurchnearyou
CATEGORIES:
DESCRIPTION:Come and enjoy delicious home made cakes\, scones\, coffee\, t
 ea and good conversation.  Donations in aid of repairs to the church.  The
  cake\, coffee and chat alternates between our two churches on a monthly b
 asis.
LOCATION:St Michael and All Angels\, Wembworthy
URL:https://www.achurchnearyou.com/church/9087/service-and-events/events/1
 021045/
END:VEVENT
BEGIN:VEVENT
SUMMARY:Cake and Coffee and Chat
DTSTART;TZID=Europe/London:20260714T100000
DTEND;TZID=Europe/London:20260714T120000
DTSTAMP:20260419T230313Z
UID:10210452026-07-14 10:00:00+01:00achurchnearyou
CATEGORIES:
DESCRIPTION:Come and enjoy delicious home made cakes\, scones\, coffee\, t
 ea and good conversation.  Donations in aid of repairs to the church.  The
  cake\, coffee and chat alternates between our two churches on a monthly b
 asis.
LOCATION:St Michael and All Angels\, Wembworthy
URL:https://www.achurchnearyou.com/church/9087/service-and-events/events/1
 021045/
END:VEVENT
BEGIN:VEVENT
SUMMARY:Cake and Coffee and Chat
DTSTART;TZID=Europe/London:20260908T100000
DTEND;TZID=Europe/London:20260908T120000
DTSTAMP:20260419T230313Z
UID:10210452026-09-08 10:00:00+01:00achurchnearyou
CATEGORIES:
DESCRIPTION:Come and enjoy delicious home made cakes\, scones\, coffee\, t
 ea and good conversation.  Donations in aid of repairs to the church.  The
  cake\, coffee and chat alternates between our two churches on a monthly b
 asis.
LOCATION:St Michael and All Angels\, Wembworthy
URL:https://www.achurchnearyou.com/church/9087/service-and-events/events/1
 021045/
END:VEVENT
BEGIN:VEVENT
SUMMARY:Cake and Coffee and Chat
DTSTART;TZID=Europe/London:20261110T100000
DTEND;TZID=Europe/London:20261110T120000
DTSTAMP:20260419T230313Z
UID:10210452026-11-10 10:00:00+00:00achurchnearyou
CATEGORIES:
DESCRIPTION:Come and enjoy delicious home made cakes\, scones\, coffee\, t
 ea and good conversation.  Donations in aid of repairs to the church.  The
  cake\, coffee and chat alternates between our two churches on a monthly b
 asis.
LOCATION:St Michael and All Angels\, Wembworthy
URL:https://www.achurchnearyou.com/church/9087/service-and-events/events/1
 021045/
END:VEVENT
BEGIN:VEVENT
SUMMARY:Cake and Coffee and Chat
DTSTART;TZID=Europe/London:20270309T100000
DTEND;TZID=Europe/London:20270309T120000
DTSTAMP:20260419T230313Z
UID:10210452027-03-09 10:00:00+00:00achurchnearyou
CATEGORIES:
DESCRIPTION:Come and enjoy delicious home made cakes\, scones\, coffee\, t
 ea and good conversation.  Donations in aid of repairs to the church.  The
  cake\, coffee and chat alternates between our two churches on a monthly b
 asis.
LOCATION:St Michael and All Angels\, Wembworthy
URL:https://www.achurchnearyou.com/church/9087/service-and-events/events/1
 021045/
END:VEVENT
END:VCALENDAR
