BEGIN:VCALENDAR
VERSION:2.0
PRODID:-//achurchnearyou.com//eventfeed//EN
CALSCALE:GREGORIAN
METHOD:PUBLISH
X-WR-TIMEZONE:UTC
BEGIN:VEVENT
SUMMARY:Ember Day Service
DTSTART:20260225T100000Z
DTEND:20260225T110000Z
DTSTAMP:20260422T170345Z
UID:12891262026-02-25 10:00:00+00:00achurchnearyou
CATEGORIES:
DESCRIPTION:Morning Prayer
GEO:-4.110947;51.007697
LOCATION:All Saints\, Alverdiscott
URL:https://www.achurchnearyou.com/church/9124/service-and-events/events/1
 289126/
END:VEVENT
END:VCALENDAR
