BEGIN:VCALENDAR
VERSION:2.0
PRODID:-//achurchnearyou.com//eventfeed//EN
CALSCALE:GREGORIAN
METHOD:PUBLISH
X-WR-TIMEZONE:UTC
BEGIN:VEVENT
SUMMARY:Ascension Day Holy Communion
DTSTART:20250529T170000Z
DTEND:20250529T180000Z
DTSTAMP:20260419T125252Z
UID:11970702025-05-29 17:00:00+00:00achurchnearyou
CATEGORIES:
DESCRIPTION:Ascension Day service in church
GEO:-0.570597;51.523805
LOCATION:St Mary's Church\, Wexham
URL:https://www.achurchnearyou.com/church/915/service-and-events/events/11
 97070/
END:VEVENT
END:VCALENDAR
