BEGIN:VCALENDAR
VERSION:2.0
PRODID:-//achurchnearyou.com//eventfeed//EN
CALSCALE:GREGORIAN
METHOD:PUBLISH
X-WR-TIMEZONE:UTC
BEGIN:VEVENT
SUMMARY:Sunday Sung Mass
DTSTART;TZID=Europe/London:20260405T100000
DTEND;TZID=Europe/London:20260405T110000
DTSTAMP:20260421T042750Z
UID:12626291775379600.0achurchnearyou
CATEGORIES:
DESCRIPTION:A Sung Mass for all the family with traditional hymns and litu
 rgy
LOCATION:St Francis
URL:https://www.achurchnearyou.com/church/9183/service-and-events/events/1
 262629/
END:VEVENT
BEGIN:VEVENT
SUMMARY:Sunday Sung Mass
DTSTART;TZID=Europe/London:20260412T100000
DTEND;TZID=Europe/London:20260412T110000
DTSTAMP:20260421T042750Z
UID:12626291775984400.0achurchnearyou
CATEGORIES:
DESCRIPTION:A Sung Mass for all the family with traditional hymns and litu
 rgy
LOCATION:St Francis
URL:https://www.achurchnearyou.com/church/9183/service-and-events/events/1
 262629/
END:VEVENT
BEGIN:VEVENT
SUMMARY:Sunday Sung Mass
DTSTART;TZID=Europe/London:20260419T100000
DTEND;TZID=Europe/London:20260419T110000
DTSTAMP:20260421T042750Z
UID:12626291776589200.0achurchnearyou
CATEGORIES:
DESCRIPTION:A Sung Mass for all the family with traditional hymns and litu
 rgy
LOCATION:St Francis
URL:https://www.achurchnearyou.com/church/9183/service-and-events/events/1
 262629/
END:VEVENT
BEGIN:VEVENT
SUMMARY:Sunday Sung Mass
DTSTART;TZID=Europe/London:20260426T100000
DTEND;TZID=Europe/London:20260426T110000
DTSTAMP:20260421T042750Z
UID:12626291777194000.0achurchnearyou
CATEGORIES:
DESCRIPTION:A Sung Mass for all the family with traditional hymns and litu
 rgy
LOCATION:St Francis
URL:https://www.achurchnearyou.com/church/9183/service-and-events/events/1
 262629/
END:VEVENT
BEGIN:VEVENT
SUMMARY:Sunday Sung Mass
DTSTART;TZID=Europe/London:20260503T100000
DTEND;TZID=Europe/London:20260503T110000
DTSTAMP:20260421T042750Z
UID:12626291777798800.0achurchnearyou
CATEGORIES:
DESCRIPTION:A Sung Mass for all the family with traditional hymns and litu
 rgy
LOCATION:St Francis
URL:https://www.achurchnearyou.com/church/9183/service-and-events/events/1
 262629/
END:VEVENT
BEGIN:VEVENT
SUMMARY:Sunday Sung Mass
DTSTART;TZID=Europe/London:20260510T100000
DTEND;TZID=Europe/London:20260510T110000
DTSTAMP:20260421T042750Z
UID:12626291778403600.0achurchnearyou
CATEGORIES:
DESCRIPTION:A Sung Mass for all the family with traditional hymns and litu
 rgy
LOCATION:St Francis
URL:https://www.achurchnearyou.com/church/9183/service-and-events/events/1
 262629/
END:VEVENT
BEGIN:VEVENT
SUMMARY:Sunday Sung Mass
DTSTART;TZID=Europe/London:20260517T100000
DTEND;TZID=Europe/London:20260517T110000
DTSTAMP:20260421T042750Z
UID:12626291779008400.0achurchnearyou
CATEGORIES:
DESCRIPTION:A Sung Mass for all the family with traditional hymns and litu
 rgy
LOCATION:St Francis
URL:https://www.achurchnearyou.com/church/9183/service-and-events/events/1
 262629/
END:VEVENT
BEGIN:VEVENT
SUMMARY:Sunday Sung Mass
DTSTART;TZID=Europe/London:20260524T100000
DTEND;TZID=Europe/London:20260524T110000
DTSTAMP:20260421T042750Z
UID:12626291779613200.0achurchnearyou
CATEGORIES:
DESCRIPTION:A Sung Mass for all the family with traditional hymns and litu
 rgy
LOCATION:St Francis
URL:https://www.achurchnearyou.com/church/9183/service-and-events/events/1
 262629/
END:VEVENT
BEGIN:VEVENT
SUMMARY:Sunday Sung Mass
DTSTART;TZID=Europe/London:20260531T100000
DTEND;TZID=Europe/London:20260531T110000
DTSTAMP:20260421T042750Z
UID:12626291780218000.0achurchnearyou
CATEGORIES:
DESCRIPTION:A Sung Mass for all the family with traditional hymns and litu
 rgy
LOCATION:St Francis
URL:https://www.achurchnearyou.com/church/9183/service-and-events/events/1
 262629/
END:VEVENT
BEGIN:VEVENT
SUMMARY:Sunday Sung Mass
DTSTART;TZID=Europe/London:20260607T100000
DTEND;TZID=Europe/London:20260607T110000
DTSTAMP:20260421T042750Z
UID:12626291780822800.0achurchnearyou
CATEGORIES:
DESCRIPTION:A Sung Mass for all the family with traditional hymns and litu
 rgy
LOCATION:St Francis
URL:https://www.achurchnearyou.com/church/9183/service-and-events/events/1
 262629/
END:VEVENT
BEGIN:VEVENT
SUMMARY:Sunday Sung Mass
DTSTART;TZID=Europe/London:20260614T100000
DTEND;TZID=Europe/London:20260614T110000
DTSTAMP:20260421T042750Z
UID:12626291781427600.0achurchnearyou
CATEGORIES:
DESCRIPTION:A Sung Mass for all the family with traditional hymns and litu
 rgy
LOCATION:St Francis
URL:https://www.achurchnearyou.com/church/9183/service-and-events/events/1
 262629/
END:VEVENT
BEGIN:VEVENT
SUMMARY:Sunday Sung Mass
DTSTART;TZID=Europe/London:20260621T100000
DTEND;TZID=Europe/London:20260621T110000
DTSTAMP:20260421T042750Z
UID:12626291782032400.0achurchnearyou
CATEGORIES:
DESCRIPTION:A Sung Mass for all the family with traditional hymns and litu
 rgy
LOCATION:St Francis
URL:https://www.achurchnearyou.com/church/9183/service-and-events/events/1
 262629/
END:VEVENT
BEGIN:VEVENT
SUMMARY:Sunday Sung Mass
DTSTART;TZID=Europe/London:20260628T100000
DTEND;TZID=Europe/London:20260628T110000
DTSTAMP:20260421T042750Z
UID:12626291782637200.0achurchnearyou
CATEGORIES:
DESCRIPTION:A Sung Mass for all the family with traditional hymns and litu
 rgy
LOCATION:St Francis
URL:https://www.achurchnearyou.com/church/9183/service-and-events/events/1
 262629/
END:VEVENT
BEGIN:VEVENT
SUMMARY:Sunday Sung Mass
DTSTART;TZID=Europe/London:20260705T100000
DTEND;TZID=Europe/London:20260705T110000
DTSTAMP:20260421T042750Z
UID:12626291783242000.0achurchnearyou
CATEGORIES:
DESCRIPTION:A Sung Mass for all the family with traditional hymns and litu
 rgy
LOCATION:St Francis
URL:https://www.achurchnearyou.com/church/9183/service-and-events/events/1
 262629/
END:VEVENT
BEGIN:VEVENT
SUMMARY:Sunday Sung Mass
DTSTART;TZID=Europe/London:20260712T100000
DTEND;TZID=Europe/London:20260712T110000
DTSTAMP:20260421T042750Z
UID:12626291783846800.0achurchnearyou
CATEGORIES:
DESCRIPTION:A Sung Mass for all the family with traditional hymns and litu
 rgy
LOCATION:St Francis
URL:https://www.achurchnearyou.com/church/9183/service-and-events/events/1
 262629/
END:VEVENT
BEGIN:VEVENT
SUMMARY:Sunday Sung Mass
DTSTART;TZID=Europe/London:20260719T100000
DTEND;TZID=Europe/London:20260719T110000
DTSTAMP:20260421T042750Z
UID:12626291784451600.0achurchnearyou
CATEGORIES:
DESCRIPTION:A Sung Mass for all the family with traditional hymns and litu
 rgy
LOCATION:St Francis
URL:https://www.achurchnearyou.com/church/9183/service-and-events/events/1
 262629/
END:VEVENT
BEGIN:VEVENT
SUMMARY:Sunday Sung Mass
DTSTART;TZID=Europe/London:20260726T100000
DTEND;TZID=Europe/London:20260726T110000
DTSTAMP:20260421T042750Z
UID:12626291785056400.0achurchnearyou
CATEGORIES:
DESCRIPTION:A Sung Mass for all the family with traditional hymns and litu
 rgy
LOCATION:St Francis
URL:https://www.achurchnearyou.com/church/9183/service-and-events/events/1
 262629/
END:VEVENT
BEGIN:VEVENT
SUMMARY:Sunday Sung Mass
DTSTART;TZID=Europe/London:20260802T100000
DTEND;TZID=Europe/London:20260802T110000
DTSTAMP:20260421T042750Z
UID:12626291785661200.0achurchnearyou
CATEGORIES:
DESCRIPTION:A Sung Mass for all the family with traditional hymns and litu
 rgy
LOCATION:St Francis
URL:https://www.achurchnearyou.com/church/9183/service-and-events/events/1
 262629/
END:VEVENT
BEGIN:VEVENT
SUMMARY:Sunday Sung Mass
DTSTART;TZID=Europe/London:20260809T100000
DTEND;TZID=Europe/London:20260809T110000
DTSTAMP:20260421T042750Z
UID:12626291786266000.0achurchnearyou
CATEGORIES:
DESCRIPTION:A Sung Mass for all the family with traditional hymns and litu
 rgy
LOCATION:St Francis
URL:https://www.achurchnearyou.com/church/9183/service-and-events/events/1
 262629/
END:VEVENT
BEGIN:VEVENT
SUMMARY:Sunday Sung Mass
DTSTART;TZID=Europe/London:20260816T100000
DTEND;TZID=Europe/London:20260816T110000
DTSTAMP:20260421T042750Z
UID:12626291786870800.0achurchnearyou
CATEGORIES:
DESCRIPTION:A Sung Mass for all the family with traditional hymns and litu
 rgy
LOCATION:St Francis
URL:https://www.achurchnearyou.com/church/9183/service-and-events/events/1
 262629/
END:VEVENT
BEGIN:VEVENT
SUMMARY:Sunday Sung Mass
DTSTART;TZID=Europe/London:20260823T100000
DTEND;TZID=Europe/London:20260823T110000
DTSTAMP:20260421T042750Z
UID:12626291787475600.0achurchnearyou
CATEGORIES:
DESCRIPTION:A Sung Mass for all the family with traditional hymns and litu
 rgy
LOCATION:St Francis
URL:https://www.achurchnearyou.com/church/9183/service-and-events/events/1
 262629/
END:VEVENT
BEGIN:VEVENT
SUMMARY:Sunday Sung Mass
DTSTART;TZID=Europe/London:20260830T100000
DTEND;TZID=Europe/London:20260830T110000
DTSTAMP:20260421T042750Z
UID:12626291788080400.0achurchnearyou
CATEGORIES:
DESCRIPTION:A Sung Mass for all the family with traditional hymns and litu
 rgy
LOCATION:St Francis
URL:https://www.achurchnearyou.com/church/9183/service-and-events/events/1
 262629/
END:VEVENT
BEGIN:VEVENT
SUMMARY:Sunday Sung Mass
DTSTART;TZID=Europe/London:20260906T100000
DTEND;TZID=Europe/London:20260906T110000
DTSTAMP:20260421T042750Z
UID:12626291788685200.0achurchnearyou
CATEGORIES:
DESCRIPTION:A Sung Mass for all the family with traditional hymns and litu
 rgy
LOCATION:St Francis
URL:https://www.achurchnearyou.com/church/9183/service-and-events/events/1
 262629/
END:VEVENT
BEGIN:VEVENT
SUMMARY:Sunday Sung Mass
DTSTART;TZID=Europe/London:20260913T100000
DTEND;TZID=Europe/London:20260913T110000
DTSTAMP:20260421T042750Z
UID:12626291789290000.0achurchnearyou
CATEGORIES:
DESCRIPTION:A Sung Mass for all the family with traditional hymns and litu
 rgy
LOCATION:St Francis
URL:https://www.achurchnearyou.com/church/9183/service-and-events/events/1
 262629/
END:VEVENT
BEGIN:VEVENT
SUMMARY:Sunday Sung Mass
DTSTART;TZID=Europe/London:20260920T100000
DTEND;TZID=Europe/London:20260920T110000
DTSTAMP:20260421T042750Z
UID:12626291789894800.0achurchnearyou
CATEGORIES:
DESCRIPTION:A Sung Mass for all the family with traditional hymns and litu
 rgy
LOCATION:St Francis
URL:https://www.achurchnearyou.com/church/9183/service-and-events/events/1
 262629/
END:VEVENT
BEGIN:VEVENT
SUMMARY:Sunday Sung Mass
DTSTART;TZID=Europe/London:20260927T100000
DTEND;TZID=Europe/London:20260927T110000
DTSTAMP:20260421T042750Z
UID:12626291790499600.0achurchnearyou
CATEGORIES:
DESCRIPTION:A Sung Mass for all the family with traditional hymns and litu
 rgy
LOCATION:St Francis
URL:https://www.achurchnearyou.com/church/9183/service-and-events/events/1
 262629/
END:VEVENT
END:VCALENDAR
