BEGIN:VCALENDAR
VERSION:2.0
PRODID:-//achurchnearyou.com//eventfeed//EN
CALSCALE:GREGORIAN
METHOD:PUBLISH
X-WR-TIMEZONE:UTC
BEGIN:VEVENT
SUMMARY:Walkabout Carols with Brass Trio
DTSTART:20241217T180000Z
DTEND:20241217T193000Z
DTSTAMP:20260420T130408Z
UID:11302512024-12-17 18:00:00+00:00achurchnearyou
CATEGORIES:
DESCRIPTION:Tuesday 17th December 6.00pm. Starting at St. Paul’s\, we’
 ll stop at various spots around the peninsula\, and finish with mulled win
 e and mince pies.
GEO:-4.16067;50.363974
LOCATION:St Paul's (Stonehouse)
URL:https://www.achurchnearyou.com/church/9186/service-and-events/events/1
 130251/
END:VEVENT
END:VCALENDAR
