BEGIN:VCALENDAR
VERSION:2.0
PRODID:-//achurchnearyou.com//eventfeed//EN
CALSCALE:GREGORIAN
METHOD:PUBLISH
X-WR-TIMEZONE:UTC
BEGIN:VEVENT
SUMMARY:Easter Family Communion
DTSTART:20260405T090000Z
DTEND:20260405T100000Z
DTSTAMP:20260422T173607Z
UID:3650812026-04-05 09:00:00+00:00achurchnearyou
CATEGORIES:
DESCRIPTION:Followed by the famous ministry of cakes!
GEO:-4.146404;50.61251
LOCATION:Christ Church\, North Brentor
URL:https://www.achurchnearyou.com/church/9217/service-and-events/events/3
 65081/
END:VEVENT
END:VCALENDAR
