BEGIN:VCALENDAR
VERSION:2.0
PRODID:-//achurchnearyou.com//eventfeed//EN
CALSCALE:GREGORIAN
METHOD:PUBLISH
X-WR-TIMEZONE:UTC
BEGIN:VEVENT
SUMMARY:Combined service
DTSTART:20251228T100000Z
DTEND:20251228T110000Z
DTSTAMP:20260422T105348Z
UID:11422992025-12-28 10:00:00+00:00achurchnearyou
CATEGORIES:
DESCRIPTION:We have a combined service on this day suitable for all everyo
 ne
GEO:-1.123407;52.990325
LOCATION:St Mark’s Church
URL:https://www.achurchnearyou.com/church/922/service-and-events/events/11
 42299/
END:VEVENT
END:VCALENDAR
