BEGIN:VCALENDAR
VERSION:2.0
PRODID:-//achurchnearyou.com//eventfeed//EN
CALSCALE:GREGORIAN
METHOD:PUBLISH
X-WR-TIMEZONE:UTC
BEGIN:VEVENT
SUMMARY:Ash Wednesday service
DTSTART:20260218T110000Z
DTEND:20260218T120000Z
DTSTAMP:20260422T082011Z
UID:12817962026-02-18 11:00:00+00:00achurchnearyou
CATEGORIES:
DESCRIPTION:Service for Ash Wednesday
GEO:-2.856499;50.754792
LOCATION:Whitchurch Canonicorum: St Candida and Holy Cross
URL:https://www.achurchnearyou.com/church/9238/service-and-events/events/1
 281796/
END:VEVENT
END:VCALENDAR
