BEGIN:VCALENDAR
VERSION:2.0
PRODID:-//achurchnearyou.com//eventfeed//EN
CALSCALE:GREGORIAN
METHOD:PUBLISH
X-WR-TIMEZONE:UTC
BEGIN:VEVENT
SUMMARY:Easter Day service
DTSTART:20260405T100000Z
DTEND:20260405T110000Z
DTSTAMP:20260422T025406Z
UID:12955212026-04-05 10:00:00+00:00achurchnearyou
CATEGORIES:
DESCRIPTION:Family-friendly Easter Day service led by the Revd Ginny Lucke
 tt
GEO:-2.856499;50.754792
LOCATION:Whitchurch Canonicorum: St Candida and Holy Cross
URL:https://www.achurchnearyou.com/church/9238/service-and-events/events/1
 295521/
END:VEVENT
END:VCALENDAR
