BEGIN:VCALENDAR
VERSION:2.0
PRODID:-//achurchnearyou.com//eventfeed//EN
CALSCALE:GREGORIAN
METHOD:PUBLISH
X-WR-TIMEZONE:UTC
BEGIN:VEVENT
SUMMARY:Easter Sunrise Service
DTSTART;TZID=Europe/London:20260405T060000
DTEND;TZID=Europe/London:20260405T070000
DTSTAMP:20260419T180058Z
UID:12915191775365200.0achurchnearyou
CATEGORIES:
DESCRIPTION:Join Reverend Andrew on Hive Beach a 6am for a special Easter 
 Morning wake up! Beginning in darkness\, watch together as the sunrises.  
 \nPeople may wish to share lifts to the NT Pay and Display car park. The s
 ervice will begin in darkness and the weather may be wet and cold. The car
  park and the beach are rough and uneven. Those attending are responsible 
 for their own safety and comfort.
LOCATION:Hive Beach
URL:https://www.achurchnearyou.com/church/9273/service-and-events/events/1
 291519/
END:VEVENT
BEGIN:VEVENT
SUMMARY:Parish Holy Communion
DTSTART;TZID=Europe/London:20260405T110000
DTEND;TZID=Europe/London:20260405T114500
DTSTAMP:20260419T180058Z
UID:7431201775383200.0achurchnearyou
CATEGORIES:
DESCRIPTION:Parish communion.
GEO:-2.59895;50.665019
LOCATION:St Nicholas Church \, Abbotsbury
URL:https://www.achurchnearyou.com/church/9273/service-and-events/events/7
 43120/
END:VEVENT
BEGIN:VEVENT
SUMMARY:Morning Praise
DTSTART;TZID=Europe/London:20260419T100000
DTEND;TZID=Europe/London:20260419T110000
DTSTAMP:20260419T180058Z
UID:12328901776589200.0achurchnearyou
CATEGORIES:
DESCRIPTION:With hymns\, prayers and reflections\, please join the congreg
 ation of Abbotsbury for Morning Praise on the third Sunday of each month.
GEO:-2.59895;50.665019
LOCATION:St Nicholas Church \, Abbotsbury
URL:https://www.achurchnearyou.com/church/9273/service-and-events/events/1
 232890/
END:VEVENT
BEGIN:VEVENT
SUMMARY:Community Church at LATCH
DTSTART;TZID=Europe/London:20260426T160000
DTEND;TZID=Europe/London:20260426T170000
DTSTAMP:20260419T180058Z
UID:12418021777215600.0achurchnearyou
CATEGORIES:
DESCRIPTION:These are more informal services.  There will be mix of singin
 g (using the Songs of Fellowship books) readings\, prayer and reflections 
 and maybe some discussion.  Activities for children will be set up and the
  afternoon ends with Community Cake! Everyone is welcome - come along and 
 try it out.
LOCATION:LATCH - Litton and Thorners Community Hall
URL:https://www.achurchnearyou.com/church/9273/service-and-events/events/1
 241802/
END:VEVENT
BEGIN:VEVENT
SUMMARY:Parish Holy Communion
DTSTART;TZID=Europe/London:20260503T110000
DTEND;TZID=Europe/London:20260503T114500
DTSTAMP:20260419T180058Z
UID:7431201777802400.0achurchnearyou
CATEGORIES:
DESCRIPTION:Parish communion.
GEO:-2.59895;50.665019
LOCATION:St Nicholas Church \, Abbotsbury
URL:https://www.achurchnearyou.com/church/9273/service-and-events/events/7
 43120/
END:VEVENT
BEGIN:VEVENT
SUMMARY:Morning Praise
DTSTART;TZID=Europe/London:20260517T100000
DTEND;TZID=Europe/London:20260517T110000
DTSTAMP:20260419T180058Z
UID:12328901779008400.0achurchnearyou
CATEGORIES:
DESCRIPTION:With hymns\, prayers and reflections\, please join the congreg
 ation of Abbotsbury for Morning Praise on the third Sunday of each month.
GEO:-2.59895;50.665019
LOCATION:St Nicholas Church \, Abbotsbury
URL:https://www.achurchnearyou.com/church/9273/service-and-events/events/1
 232890/
END:VEVENT
BEGIN:VEVENT
SUMMARY:Community Church at LATCH
DTSTART;TZID=Europe/London:20260524T160000
DTEND;TZID=Europe/London:20260524T170000
DTSTAMP:20260419T180058Z
UID:12418021779634800.0achurchnearyou
CATEGORIES:
DESCRIPTION:These are more informal services.  There will be mix of singin
 g (using the Songs of Fellowship books) readings\, prayer and reflections 
 and maybe some discussion.  Activities for children will be set up and the
  afternoon ends with Community Cake! Everyone is welcome - come along and 
 try it out.
LOCATION:LATCH - Litton and Thorners Community Hall
URL:https://www.achurchnearyou.com/church/9273/service-and-events/events/1
 241802/
END:VEVENT
BEGIN:VEVENT
SUMMARY:Picnic in the Rectory Garden
DTSTART;TZID=Europe/London:20260531T120000
DTEND;TZID=Europe/London:20260531T140000
DTSTAMP:20260419T180058Z
UID:13225051780225200.0achurchnearyou
CATEGORIES:
DESCRIPTION:Come and enjoy a picnic in the Rectory gardens.  (If it is wet
 \, we'll be in the village hall.) Bring your own food and seating and enjo
 y time to relax with friends and the community!
LOCATION:The Rectory
URL:https://www.achurchnearyou.com/church/9273/service-and-events/events/1
 322505/
END:VEVENT
BEGIN:VEVENT
SUMMARY:Parish Holy Communion
DTSTART;TZID=Europe/London:20260607T110000
DTEND;TZID=Europe/London:20260607T114500
DTSTAMP:20260419T180058Z
UID:7431201780826400.0achurchnearyou
CATEGORIES:
DESCRIPTION:Parish communion.
GEO:-2.59895;50.665019
LOCATION:St Nicholas Church \, Abbotsbury
URL:https://www.achurchnearyou.com/church/9273/service-and-events/events/7
 43120/
END:VEVENT
BEGIN:VEVENT
SUMMARY:Morning Praise
DTSTART;TZID=Europe/London:20260621T100000
DTEND;TZID=Europe/London:20260621T110000
DTSTAMP:20260419T180058Z
UID:12328901782032400.0achurchnearyou
CATEGORIES:
DESCRIPTION:With hymns\, prayers and reflections\, please join the congreg
 ation of Abbotsbury for Morning Praise on the third Sunday of each month.
GEO:-2.59895;50.665019
LOCATION:St Nicholas Church \, Abbotsbury
URL:https://www.achurchnearyou.com/church/9273/service-and-events/events/1
 232890/
END:VEVENT
BEGIN:VEVENT
SUMMARY:Community Church at LATCH
DTSTART;TZID=Europe/London:20260628T160000
DTEND;TZID=Europe/London:20260628T170000
DTSTAMP:20260419T180058Z
UID:12418021782658800.0achurchnearyou
CATEGORIES:
DESCRIPTION:These are more informal services.  There will be mix of singin
 g (using the Songs of Fellowship books) readings\, prayer and reflections 
 and maybe some discussion.  Activities for children will be set up and the
  afternoon ends with Community Cake! Everyone is welcome - come along and 
 try it out.
LOCATION:LATCH - Litton and Thorners Community Hall
URL:https://www.achurchnearyou.com/church/9273/service-and-events/events/1
 241802/
END:VEVENT
BEGIN:VEVENT
SUMMARY:Parish Holy Communion
DTSTART;TZID=Europe/London:20260705T110000
DTEND;TZID=Europe/London:20260705T114500
DTSTAMP:20260419T180058Z
UID:7431201783245600.0achurchnearyou
CATEGORIES:
DESCRIPTION:Parish communion.
GEO:-2.59895;50.665019
LOCATION:St Nicholas Church \, Abbotsbury
URL:https://www.achurchnearyou.com/church/9273/service-and-events/events/7
 43120/
END:VEVENT
BEGIN:VEVENT
SUMMARY:Morning Praise
DTSTART;TZID=Europe/London:20260719T100000
DTEND;TZID=Europe/London:20260719T110000
DTSTAMP:20260419T180058Z
UID:12328901784451600.0achurchnearyou
CATEGORIES:
DESCRIPTION:With hymns\, prayers and reflections\, please join the congreg
 ation of Abbotsbury for Morning Praise on the third Sunday of each month.
GEO:-2.59895;50.665019
LOCATION:St Nicholas Church \, Abbotsbury
URL:https://www.achurchnearyou.com/church/9273/service-and-events/events/1
 232890/
END:VEVENT
BEGIN:VEVENT
SUMMARY:Community Church at LATCH
DTSTART;TZID=Europe/London:20260726T160000
DTEND;TZID=Europe/London:20260726T170000
DTSTAMP:20260419T180058Z
UID:12418021785078000.0achurchnearyou
CATEGORIES:
DESCRIPTION:These are more informal services.  There will be mix of singin
 g (using the Songs of Fellowship books) readings\, prayer and reflections 
 and maybe some discussion.  Activities for children will be set up and the
  afternoon ends with Community Cake! Everyone is welcome - come along and 
 try it out.
LOCATION:LATCH - Litton and Thorners Community Hall
URL:https://www.achurchnearyou.com/church/9273/service-and-events/events/1
 241802/
END:VEVENT
BEGIN:VEVENT
SUMMARY:Parish Holy Communion
DTSTART;TZID=Europe/London:20260802T110000
DTEND;TZID=Europe/London:20260802T114500
DTSTAMP:20260419T180058Z
UID:7431201785664800.0achurchnearyou
CATEGORIES:
DESCRIPTION:Parish communion.
GEO:-2.59895;50.665019
LOCATION:St Nicholas Church \, Abbotsbury
URL:https://www.achurchnearyou.com/church/9273/service-and-events/events/7
 43120/
END:VEVENT
BEGIN:VEVENT
SUMMARY:Morning Praise
DTSTART;TZID=Europe/London:20260816T100000
DTEND;TZID=Europe/London:20260816T110000
DTSTAMP:20260419T180058Z
UID:12328901786870800.0achurchnearyou
CATEGORIES:
DESCRIPTION:With hymns\, prayers and reflections\, please join the congreg
 ation of Abbotsbury for Morning Praise on the third Sunday of each month.
GEO:-2.59895;50.665019
LOCATION:St Nicholas Church \, Abbotsbury
URL:https://www.achurchnearyou.com/church/9273/service-and-events/events/1
 232890/
END:VEVENT
BEGIN:VEVENT
SUMMARY:Community Church at LATCH
DTSTART;TZID=Europe/London:20260823T160000
DTEND;TZID=Europe/London:20260823T170000
DTSTAMP:20260419T180058Z
UID:12418021787497200.0achurchnearyou
CATEGORIES:
DESCRIPTION:These are more informal services.  There will be mix of singin
 g (using the Songs of Fellowship books) readings\, prayer and reflections 
 and maybe some discussion.  Activities for children will be set up and the
  afternoon ends with Community Cake! Everyone is welcome - come along and 
 try it out.
LOCATION:LATCH - Litton and Thorners Community Hall
URL:https://www.achurchnearyou.com/church/9273/service-and-events/events/1
 241802/
END:VEVENT
BEGIN:VEVENT
SUMMARY:Parish Holy Communion
DTSTART;TZID=Europe/London:20260906T110000
DTEND;TZID=Europe/London:20260906T114500
DTSTAMP:20260419T180058Z
UID:7431201788688800.0achurchnearyou
CATEGORIES:
DESCRIPTION:Parish communion.
GEO:-2.59895;50.665019
LOCATION:St Nicholas Church \, Abbotsbury
URL:https://www.achurchnearyou.com/church/9273/service-and-events/events/7
 43120/
END:VEVENT
BEGIN:VEVENT
SUMMARY:Morning Praise
DTSTART;TZID=Europe/London:20260920T100000
DTEND;TZID=Europe/London:20260920T110000
DTSTAMP:20260419T180058Z
UID:12328901789894800.0achurchnearyou
CATEGORIES:
DESCRIPTION:With hymns\, prayers and reflections\, please join the congreg
 ation of Abbotsbury for Morning Praise on the third Sunday of each month.
GEO:-2.59895;50.665019
LOCATION:St Nicholas Church \, Abbotsbury
URL:https://www.achurchnearyou.com/church/9273/service-and-events/events/1
 232890/
END:VEVENT
BEGIN:VEVENT
SUMMARY:Community Church at LATCH
DTSTART;TZID=Europe/London:20260927T160000
DTEND;TZID=Europe/London:20260927T170000
DTSTAMP:20260419T180058Z
UID:12418021790521200.0achurchnearyou
CATEGORIES:
DESCRIPTION:These are more informal services.  There will be mix of singin
 g (using the Songs of Fellowship books) readings\, prayer and reflections 
 and maybe some discussion.  Activities for children will be set up and the
  afternoon ends with Community Cake! Everyone is welcome - come along and 
 try it out.
LOCATION:LATCH - Litton and Thorners Community Hall
URL:https://www.achurchnearyou.com/church/9273/service-and-events/events/1
 241802/
END:VEVENT
END:VCALENDAR
