BEGIN:VCALENDAR
VERSION:2.0
PRODID:-//achurchnearyou.com//eventfeed//EN
CALSCALE:GREGORIAN
METHOD:PUBLISH
X-WR-TIMEZONE:UTC
BEGIN:VEVENT
SUMMARY:Annual Vestry Meeting and Parochial Church Meeting
DTSTART:20250521T193000Z
DTEND:20250521T203000Z
DTSTAMP:20260421T220310Z
UID:12000252025-05-21 19:30:00+00:00achurchnearyou
CATEGORIES:
DESCRIPTION:Your chance to have your say in the running of the church and 
 to vote for members of the PCC
GEO:-2.284384;51.056998
LOCATION:St Simon & St Jude\, Milton on Stour
URL:https://www.achurchnearyou.com/church/9311/service-and-events/events/1
 200025/
END:VEVENT
END:VCALENDAR
