BEGIN:VCALENDAR
VERSION:2.0
PRODID:-//achurchnearyou.com//eventfeed//EN
CALSCALE:GREGORIAN
METHOD:PUBLISH
X-WR-TIMEZONE:UTC
BEGIN:VEVENT
SUMMARY:Ash Wednesday Holy Communion with The Imposition of Ashes
DTSTART:20260218T190000Z
DTEND:20260218T194500Z
DTSTAMP:20260422T155058Z
UID:12825332026-02-18 19:00:00+00:00achurchnearyou
CATEGORIES:
DESCRIPTION:A Service to mark the beginning of Lent. Imposition of Ashes i
 s optional. There is also a similar service at our sister church of St. Ma
 ry's\, Sturminster Newton on 18 February at 10am
GEO:-2.304876;50.94391
LOCATION:St Peter's
URL:https://www.achurchnearyou.com/church/9313/service-and-events/events/1
 282533/
END:VEVENT
END:VCALENDAR
