BEGIN:VCALENDAR
VERSION:2.0
PRODID:-//achurchnearyou.com//eventfeed//EN
CALSCALE:GREGORIAN
METHOD:PUBLISH
X-WR-TIMEZONE:UTC
BEGIN:VEVENT
SUMMARY:Benefice Maundy Thursday Holy Communion Service
DTSTART:20260402T180000Z
DTEND:20260402T190000Z
DTSTAMP:20260422T102505Z
UID:13101212026-04-02 18:00:00+00:00achurchnearyou
CATEGORIES:
DESCRIPTION:Come and worship\, remembering the events of the evening that 
 led up to Jesus' arrest in the Garden of Gethsemane
LOCATION:St. Mary's Church
URL:https://www.achurchnearyou.com/church/9313/service-and-events/events/1
 310121/
END:VEVENT
END:VCALENDAR
