BEGIN:VCALENDAR
VERSION:2.0
PRODID:-//achurchnearyou.com//eventfeed//EN
CALSCALE:GREGORIAN
METHOD:PUBLISH
X-WR-TIMEZONE:UTC
BEGIN:VEVENT
SUMMARY:Pet service
DTSTART:20260426T100000Z
DTEND:20260426T104500Z
DTSTAMP:20260420T062205Z
UID:13247632026-04-26 10:00:00+00:00achurchnearyou
CATEGORIES:
DESCRIPTION:All pets are welcome\, with their owners\, to give thanks for 
 them and ask God's blessing on them and their owners
GEO:-2.367854;50.919103
LOCATION:St Thomas a Becket
URL:https://www.achurchnearyou.com/church/9316/service-and-events/events/1
 324763/
END:VEVENT
END:VCALENDAR
