BEGIN:VCALENDAR
VERSION:2.0
PRODID:-//achurchnearyou.com//eventfeed//EN
CALSCALE:GREGORIAN
METHOD:PUBLISH
X-WR-TIMEZONE:UTC
BEGIN:VEVENT
SUMMARY:Harvest Festival with Communion
DTSTART:20251005T100000Z
DTEND:20251005T110000Z
DTSTAMP:20260426T034715Z
UID:12262102025-10-05 10:00:00+00:00achurchnearyou
CATEGORIES:
DESCRIPTION:Please join us for our Harvest Festival followed by Harvest Lu
 nch.
GEO:-2.288268;51.004573
LOCATION:East Stour: Christ Church - part of the Stour Vale Benefice
URL:https://www.achurchnearyou.com/church/9337/service-and-events/events/1
 226210/
END:VEVENT
END:VCALENDAR
