BEGIN:VCALENDAR
VERSION:2.0
PRODID:-//achurchnearyou.com//eventfeed//EN
CALSCALE:GREGORIAN
METHOD:PUBLISH
X-WR-TIMEZONE:UTC
BEGIN:VEVENT
SUMMARY:Harvest Festival
DTSTART:20251005T153000Z
DTEND:20251005T163000Z
DTSTAMP:20260424T112059Z
UID:12284362025-10-05 15:30:00+00:00achurchnearyou
CATEGORIES:
DESCRIPTION:Celebration of Harvest.
GEO:-2.732683;50.775181
LOCATION:Melplash: Christ Church
URL:https://www.achurchnearyou.com/church/9341/service-and-events/events/1
 228436/
END:VEVENT
END:VCALENDAR
