BEGIN:VCALENDAR
VERSION:2.0
PRODID:-//achurchnearyou.com//eventfeed//EN
CALSCALE:GREGORIAN
METHOD:PUBLISH
X-WR-TIMEZONE:UTC
BEGIN:VEVENT
SUMMARY:Holy Communion
DTSTART:20251225T093000Z
DTEND:20251225T103000Z
DTSTAMP:20260424T042620Z
UID:12668252025-12-25 09:30:00+00:00achurchnearyou
CATEGORIES:
DESCRIPTION:Christmas Eucharist Service.
GEO:-2.732683;50.775181
LOCATION:Netherbury: St Mary
URL:https://www.achurchnearyou.com/church/9341/service-and-events/events/1
 266825/
END:VEVENT
END:VCALENDAR
