BEGIN:VCALENDAR
VERSION:2.0
PRODID:-//achurchnearyou.com//eventfeed//EN
CALSCALE:GREGORIAN
METHOD:PUBLISH
X-WR-TIMEZONE:UTC
BEGIN:VEVENT
SUMMARY:Carols at the Chapel
DTSTART:20251215T180000Z
DTEND:20251215T190000Z
DTSTAMP:20260419T183626Z
UID:12390162025-12-15 18:00:00+00:00achurchnearyou
CATEGORIES:
DESCRIPTION:A service of Carols at our much-loved Gussage St Andrew
GEO:-2.035453;50.927729
LOCATION:Gussage: St Andrew
URL:https://www.achurchnearyou.com/church/9357/service-and-events/events/1
 239016/
END:VEVENT
END:VCALENDAR
