BEGIN:VCALENDAR
VERSION:2.0
PRODID:-//achurchnearyou.com//eventfeed//EN
CALSCALE:GREGORIAN
METHOD:PUBLISH
X-WR-TIMEZONE:UTC
BEGIN:VEVENT
SUMMARY:Palm Sunday Eucharist
DTSTART:20250413T090000Z
DTEND:20250413T100000Z
DTSTAMP:20260424T221331Z
UID:11770002025-04-13 09:00:00+00:00achurchnearyou
CATEGORIES:
DESCRIPTION:A proccession with Palm C rosses\, folowed by a Holy Communion
  service including a reading of the dramatized Passion Giospel according t
 o St. Luke.
GEO:-1.799426;53.798444
LOCATION:Fairweather Green: St Saviour
URL:https://www.achurchnearyou.com/church/936/service-and-events/events/11
 77000/
END:VEVENT
END:VCALENDAR
