BEGIN:VCALENDAR
VERSION:2.0
PRODID:-//achurchnearyou.com//eventfeed//EN
CALSCALE:GREGORIAN
METHOD:PUBLISH
X-WR-TIMEZONE:UTC
BEGIN:VEVENT
SUMMARY:Eucharist
DTSTART;TZID=Europe/London:20260513T093000
DTEND;TZID=Europe/London:20260513T100000
DTSTAMP:20260423T132457Z
UID:2408322026-05-13 09:30:00+01:00achurchnearyou
CATEGORIES:
DESCRIPTION:Common Worship Order One\nOn 2nd and 4th Wednesday only.  1st\
 , 3rd and 5th Wednesday at St Francis's Church Hall\, Greenway Drive\, All
 erton\, BD15 7YZ (q.v.)  at 11.00 a.m.
GEO:-1.799426;53.798444
LOCATION:Fairweather Green: St Saviour
URL:https://www.achurchnearyou.com/church/936/service-and-events/events/24
 0832/
END:VEVENT
BEGIN:VEVENT
SUMMARY:Eucharist
DTSTART;TZID=Europe/London:20260527T093000
DTEND;TZID=Europe/London:20260527T100000
DTSTAMP:20260423T132457Z
UID:2408322026-05-27 09:30:00+01:00achurchnearyou
CATEGORIES:
DESCRIPTION:Common Worship Order One\nOn 2nd and 4th Wednesday only.  1st\
 , 3rd and 5th Wednesday at St Francis's Church Hall\, Greenway Drive\, All
 erton\, BD15 7YZ (q.v.)  at 11.00 a.m.
GEO:-1.799426;53.798444
LOCATION:Fairweather Green: St Saviour
URL:https://www.achurchnearyou.com/church/936/service-and-events/events/24
 0832/
END:VEVENT
BEGIN:VEVENT
SUMMARY:Eucharist
DTSTART;TZID=Europe/London:20260610T093000
DTEND;TZID=Europe/London:20260610T100000
DTSTAMP:20260423T132457Z
UID:2408322026-06-10 09:30:00+01:00achurchnearyou
CATEGORIES:
DESCRIPTION:Common Worship Order One\nOn 2nd and 4th Wednesday only.  1st\
 , 3rd and 5th Wednesday at St Francis's Church Hall\, Greenway Drive\, All
 erton\, BD15 7YZ (q.v.)  at 11.00 a.m.
GEO:-1.799426;53.798444
LOCATION:Fairweather Green: St Saviour
URL:https://www.achurchnearyou.com/church/936/service-and-events/events/24
 0832/
END:VEVENT
BEGIN:VEVENT
SUMMARY:Eucharist
DTSTART;TZID=Europe/London:20260624T093000
DTEND;TZID=Europe/London:20260624T100000
DTSTAMP:20260423T132457Z
UID:2408322026-06-24 09:30:00+01:00achurchnearyou
CATEGORIES:
DESCRIPTION:Common Worship Order One\nOn 2nd and 4th Wednesday only.  1st\
 , 3rd and 5th Wednesday at St Francis's Church Hall\, Greenway Drive\, All
 erton\, BD15 7YZ (q.v.)  at 11.00 a.m.
GEO:-1.799426;53.798444
LOCATION:Fairweather Green: St Saviour
URL:https://www.achurchnearyou.com/church/936/service-and-events/events/24
 0832/
END:VEVENT
BEGIN:VEVENT
SUMMARY:Eucharist
DTSTART;TZID=Europe/London:20260708T093000
DTEND;TZID=Europe/London:20260708T100000
DTSTAMP:20260423T132457Z
UID:2408322026-07-08 09:30:00+01:00achurchnearyou
CATEGORIES:
DESCRIPTION:Common Worship Order One\nOn 2nd and 4th Wednesday only.  1st\
 , 3rd and 5th Wednesday at St Francis's Church Hall\, Greenway Drive\, All
 erton\, BD15 7YZ (q.v.)  at 11.00 a.m.
GEO:-1.799426;53.798444
LOCATION:Fairweather Green: St Saviour
URL:https://www.achurchnearyou.com/church/936/service-and-events/events/24
 0832/
END:VEVENT
BEGIN:VEVENT
SUMMARY:Eucharist
DTSTART;TZID=Europe/London:20260722T093000
DTEND;TZID=Europe/London:20260722T100000
DTSTAMP:20260423T132457Z
UID:2408322026-07-22 09:30:00+01:00achurchnearyou
CATEGORIES:
DESCRIPTION:Common Worship Order One\nOn 2nd and 4th Wednesday only.  1st\
 , 3rd and 5th Wednesday at St Francis's Church Hall\, Greenway Drive\, All
 erton\, BD15 7YZ (q.v.)  at 11.00 a.m.
GEO:-1.799426;53.798444
LOCATION:Fairweather Green: St Saviour
URL:https://www.achurchnearyou.com/church/936/service-and-events/events/24
 0832/
END:VEVENT
BEGIN:VEVENT
SUMMARY:Eucharist
DTSTART;TZID=Europe/London:20260812T093000
DTEND;TZID=Europe/London:20260812T100000
DTSTAMP:20260423T132457Z
UID:2408322026-08-12 09:30:00+01:00achurchnearyou
CATEGORIES:
DESCRIPTION:Common Worship Order One\nOn 2nd and 4th Wednesday only.  1st\
 , 3rd and 5th Wednesday at St Francis's Church Hall\, Greenway Drive\, All
 erton\, BD15 7YZ (q.v.)  at 11.00 a.m.
GEO:-1.799426;53.798444
LOCATION:Fairweather Green: St Saviour
URL:https://www.achurchnearyou.com/church/936/service-and-events/events/24
 0832/
END:VEVENT
BEGIN:VEVENT
SUMMARY:Eucharist
DTSTART;TZID=Europe/London:20260826T093000
DTEND;TZID=Europe/London:20260826T100000
DTSTAMP:20260423T132457Z
UID:2408322026-08-26 09:30:00+01:00achurchnearyou
CATEGORIES:
DESCRIPTION:Common Worship Order One\nOn 2nd and 4th Wednesday only.  1st\
 , 3rd and 5th Wednesday at St Francis's Church Hall\, Greenway Drive\, All
 erton\, BD15 7YZ (q.v.)  at 11.00 a.m.
GEO:-1.799426;53.798444
LOCATION:Fairweather Green: St Saviour
URL:https://www.achurchnearyou.com/church/936/service-and-events/events/24
 0832/
END:VEVENT
BEGIN:VEVENT
SUMMARY:Eucharist
DTSTART;TZID=Europe/London:20260909T093000
DTEND;TZID=Europe/London:20260909T100000
DTSTAMP:20260423T132457Z
UID:2408322026-09-09 09:30:00+01:00achurchnearyou
CATEGORIES:
DESCRIPTION:Common Worship Order One\nOn 2nd and 4th Wednesday only.  1st\
 , 3rd and 5th Wednesday at St Francis's Church Hall\, Greenway Drive\, All
 erton\, BD15 7YZ (q.v.)  at 11.00 a.m.
GEO:-1.799426;53.798444
LOCATION:Fairweather Green: St Saviour
URL:https://www.achurchnearyou.com/church/936/service-and-events/events/24
 0832/
END:VEVENT
BEGIN:VEVENT
SUMMARY:Eucharist
DTSTART;TZID=Europe/London:20260923T093000
DTEND;TZID=Europe/London:20260923T100000
DTSTAMP:20260423T132457Z
UID:2408322026-09-23 09:30:00+01:00achurchnearyou
CATEGORIES:
DESCRIPTION:Common Worship Order One\nOn 2nd and 4th Wednesday only.  1st\
 , 3rd and 5th Wednesday at St Francis's Church Hall\, Greenway Drive\, All
 erton\, BD15 7YZ (q.v.)  at 11.00 a.m.
GEO:-1.799426;53.798444
LOCATION:Fairweather Green: St Saviour
URL:https://www.achurchnearyou.com/church/936/service-and-events/events/24
 0832/
END:VEVENT
BEGIN:VEVENT
SUMMARY:Eucharist
DTSTART;TZID=Europe/London:20261014T093000
DTEND;TZID=Europe/London:20261014T100000
DTSTAMP:20260423T132457Z
UID:2408322026-10-14 09:30:00+01:00achurchnearyou
CATEGORIES:
DESCRIPTION:Common Worship Order One\nOn 2nd and 4th Wednesday only.  1st\
 , 3rd and 5th Wednesday at St Francis's Church Hall\, Greenway Drive\, All
 erton\, BD15 7YZ (q.v.)  at 11.00 a.m.
GEO:-1.799426;53.798444
LOCATION:Fairweather Green: St Saviour
URL:https://www.achurchnearyou.com/church/936/service-and-events/events/24
 0832/
END:VEVENT
BEGIN:VEVENT
SUMMARY:Eucharist
DTSTART;TZID=Europe/London:20261028T093000
DTEND;TZID=Europe/London:20261028T100000
DTSTAMP:20260423T132457Z
UID:2408322026-10-28 09:30:00+00:00achurchnearyou
CATEGORIES:
DESCRIPTION:Common Worship Order One\nOn 2nd and 4th Wednesday only.  1st\
 , 3rd and 5th Wednesday at St Francis's Church Hall\, Greenway Drive\, All
 erton\, BD15 7YZ (q.v.)  at 11.00 a.m.
GEO:-1.799426;53.798444
LOCATION:Fairweather Green: St Saviour
URL:https://www.achurchnearyou.com/church/936/service-and-events/events/24
 0832/
END:VEVENT
BEGIN:VEVENT
SUMMARY:Eucharist
DTSTART;TZID=Europe/London:20261111T093000
DTEND;TZID=Europe/London:20261111T100000
DTSTAMP:20260423T132457Z
UID:2408322026-11-11 09:30:00+00:00achurchnearyou
CATEGORIES:
DESCRIPTION:Common Worship Order One\nOn 2nd and 4th Wednesday only.  1st\
 , 3rd and 5th Wednesday at St Francis's Church Hall\, Greenway Drive\, All
 erton\, BD15 7YZ (q.v.)  at 11.00 a.m.
GEO:-1.799426;53.798444
LOCATION:Fairweather Green: St Saviour
URL:https://www.achurchnearyou.com/church/936/service-and-events/events/24
 0832/
END:VEVENT
BEGIN:VEVENT
SUMMARY:Eucharist
DTSTART;TZID=Europe/London:20261125T093000
DTEND;TZID=Europe/London:20261125T100000
DTSTAMP:20260423T132457Z
UID:2408322026-11-25 09:30:00+00:00achurchnearyou
CATEGORIES:
DESCRIPTION:Common Worship Order One\nOn 2nd and 4th Wednesday only.  1st\
 , 3rd and 5th Wednesday at St Francis's Church Hall\, Greenway Drive\, All
 erton\, BD15 7YZ (q.v.)  at 11.00 a.m.
GEO:-1.799426;53.798444
LOCATION:Fairweather Green: St Saviour
URL:https://www.achurchnearyou.com/church/936/service-and-events/events/24
 0832/
END:VEVENT
BEGIN:VEVENT
SUMMARY:Eucharist
DTSTART;TZID=Europe/London:20261209T093000
DTEND;TZID=Europe/London:20261209T100000
DTSTAMP:20260423T132457Z
UID:2408322026-12-09 09:30:00+00:00achurchnearyou
CATEGORIES:
DESCRIPTION:Common Worship Order One\nOn 2nd and 4th Wednesday only.  1st\
 , 3rd and 5th Wednesday at St Francis's Church Hall\, Greenway Drive\, All
 erton\, BD15 7YZ (q.v.)  at 11.00 a.m.
GEO:-1.799426;53.798444
LOCATION:Fairweather Green: St Saviour
URL:https://www.achurchnearyou.com/church/936/service-and-events/events/24
 0832/
END:VEVENT
BEGIN:VEVENT
SUMMARY:Eucharist
DTSTART;TZID=Europe/London:20261223T093000
DTEND;TZID=Europe/London:20261223T100000
DTSTAMP:20260423T132457Z
UID:2408322026-12-23 09:30:00+00:00achurchnearyou
CATEGORIES:
DESCRIPTION:Common Worship Order One\nOn 2nd and 4th Wednesday only.  1st\
 , 3rd and 5th Wednesday at St Francis's Church Hall\, Greenway Drive\, All
 erton\, BD15 7YZ (q.v.)  at 11.00 a.m.
GEO:-1.799426;53.798444
LOCATION:Fairweather Green: St Saviour
URL:https://www.achurchnearyou.com/church/936/service-and-events/events/24
 0832/
END:VEVENT
BEGIN:VEVENT
SUMMARY:Eucharist
DTSTART;TZID=Europe/London:20270113T093000
DTEND;TZID=Europe/London:20270113T100000
DTSTAMP:20260423T132457Z
UID:2408322027-01-13 09:30:00+00:00achurchnearyou
CATEGORIES:
DESCRIPTION:Common Worship Order One\nOn 2nd and 4th Wednesday only.  1st\
 , 3rd and 5th Wednesday at St Francis's Church Hall\, Greenway Drive\, All
 erton\, BD15 7YZ (q.v.)  at 11.00 a.m.
GEO:-1.799426;53.798444
LOCATION:Fairweather Green: St Saviour
URL:https://www.achurchnearyou.com/church/936/service-and-events/events/24
 0832/
END:VEVENT
BEGIN:VEVENT
SUMMARY:Eucharist
DTSTART;TZID=Europe/London:20270127T093000
DTEND;TZID=Europe/London:20270127T100000
DTSTAMP:20260423T132457Z
UID:2408322027-01-27 09:30:00+00:00achurchnearyou
CATEGORIES:
DESCRIPTION:Common Worship Order One\nOn 2nd and 4th Wednesday only.  1st\
 , 3rd and 5th Wednesday at St Francis's Church Hall\, Greenway Drive\, All
 erton\, BD15 7YZ (q.v.)  at 11.00 a.m.
GEO:-1.799426;53.798444
LOCATION:Fairweather Green: St Saviour
URL:https://www.achurchnearyou.com/church/936/service-and-events/events/24
 0832/
END:VEVENT
BEGIN:VEVENT
SUMMARY:Eucharist
DTSTART;TZID=Europe/London:20270210T093000
DTEND;TZID=Europe/London:20270210T100000
DTSTAMP:20260423T132457Z
UID:2408322027-02-10 09:30:00+00:00achurchnearyou
CATEGORIES:
DESCRIPTION:Common Worship Order One\nOn 2nd and 4th Wednesday only.  1st\
 , 3rd and 5th Wednesday at St Francis's Church Hall\, Greenway Drive\, All
 erton\, BD15 7YZ (q.v.)  at 11.00 a.m.
GEO:-1.799426;53.798444
LOCATION:Fairweather Green: St Saviour
URL:https://www.achurchnearyou.com/church/936/service-and-events/events/24
 0832/
END:VEVENT
BEGIN:VEVENT
SUMMARY:Eucharist
DTSTART;TZID=Europe/London:20270224T093000
DTEND;TZID=Europe/London:20270224T100000
DTSTAMP:20260423T132457Z
UID:2408322027-02-24 09:30:00+00:00achurchnearyou
CATEGORIES:
DESCRIPTION:Common Worship Order One\nOn 2nd and 4th Wednesday only.  1st\
 , 3rd and 5th Wednesday at St Francis's Church Hall\, Greenway Drive\, All
 erton\, BD15 7YZ (q.v.)  at 11.00 a.m.
GEO:-1.799426;53.798444
LOCATION:Fairweather Green: St Saviour
URL:https://www.achurchnearyou.com/church/936/service-and-events/events/24
 0832/
END:VEVENT
BEGIN:VEVENT
SUMMARY:Eucharist
DTSTART;TZID=Europe/London:20270310T093000
DTEND;TZID=Europe/London:20270310T100000
DTSTAMP:20260423T132457Z
UID:2408322027-03-10 09:30:00+00:00achurchnearyou
CATEGORIES:
DESCRIPTION:Common Worship Order One\nOn 2nd and 4th Wednesday only.  1st\
 , 3rd and 5th Wednesday at St Francis's Church Hall\, Greenway Drive\, All
 erton\, BD15 7YZ (q.v.)  at 11.00 a.m.
GEO:-1.799426;53.798444
LOCATION:Fairweather Green: St Saviour
URL:https://www.achurchnearyou.com/church/936/service-and-events/events/24
 0832/
END:VEVENT
BEGIN:VEVENT
SUMMARY:Eucharist
DTSTART;TZID=Europe/London:20270324T093000
DTEND;TZID=Europe/London:20270324T100000
DTSTAMP:20260423T132457Z
UID:2408322027-03-24 09:30:00+00:00achurchnearyou
CATEGORIES:
DESCRIPTION:Common Worship Order One\nOn 2nd and 4th Wednesday only.  1st\
 , 3rd and 5th Wednesday at St Francis's Church Hall\, Greenway Drive\, All
 erton\, BD15 7YZ (q.v.)  at 11.00 a.m.
GEO:-1.799426;53.798444
LOCATION:Fairweather Green: St Saviour
URL:https://www.achurchnearyou.com/church/936/service-and-events/events/24
 0832/
END:VEVENT
BEGIN:VEVENT
SUMMARY:Eucharist
DTSTART;TZID=Europe/London:20270414T093000
DTEND;TZID=Europe/London:20270414T100000
DTSTAMP:20260423T132457Z
UID:2408322027-04-14 09:30:00+01:00achurchnearyou
CATEGORIES:
DESCRIPTION:Common Worship Order One\nOn 2nd and 4th Wednesday only.  1st\
 , 3rd and 5th Wednesday at St Francis's Church Hall\, Greenway Drive\, All
 erton\, BD15 7YZ (q.v.)  at 11.00 a.m.
GEO:-1.799426;53.798444
LOCATION:Fairweather Green: St Saviour
URL:https://www.achurchnearyou.com/church/936/service-and-events/events/24
 0832/
END:VEVENT
END:VCALENDAR
