BEGIN:VCALENDAR
VERSION:2.0
PRODID:-//achurchnearyou.com//eventfeed//EN
CALSCALE:GREGORIAN
METHOD:PUBLISH
X-WR-TIMEZONE:UTC
BEGIN:VEVENT
SUMMARY:Meet and Mingle
DTSTART;TZID=Europe/London:20260516T110000
DTEND;TZID=Europe/London:20260516T130000
DTSTAMP:20260421T014454Z
UID:10921732026-05-16 11:00:00+01:00achurchnearyou
CATEGORIES:
DESCRIPTION:Cafe\, cake stall\, and opportunity to meet with others.
GEO:-1.763863;53.769027
LOCATION:St Matthew’s Bankfoot
URL:https://www.achurchnearyou.com/church/938/service-and-events/events/10
 92173/
END:VEVENT
BEGIN:VEVENT
SUMMARY:Meet and Mingle
DTSTART;TZID=Europe/London:20260620T110000
DTEND;TZID=Europe/London:20260620T130000
DTSTAMP:20260421T014454Z
UID:10921732026-06-20 11:00:00+01:00achurchnearyou
CATEGORIES:
DESCRIPTION:Cafe\, cake stall\, and opportunity to meet with others.
GEO:-1.763863;53.769027
LOCATION:St Matthew’s Bankfoot
URL:https://www.achurchnearyou.com/church/938/service-and-events/events/10
 92173/
END:VEVENT
BEGIN:VEVENT
SUMMARY:Meet and Mingle
DTSTART;TZID=Europe/London:20260718T110000
DTEND;TZID=Europe/London:20260718T130000
DTSTAMP:20260421T014454Z
UID:10921732026-07-18 11:00:00+01:00achurchnearyou
CATEGORIES:
DESCRIPTION:Cafe\, cake stall\, and opportunity to meet with others.
GEO:-1.763863;53.769027
LOCATION:St Matthew’s Bankfoot
URL:https://www.achurchnearyou.com/church/938/service-and-events/events/10
 92173/
END:VEVENT
BEGIN:VEVENT
SUMMARY:Meet and Mingle
DTSTART;TZID=Europe/London:20260815T110000
DTEND;TZID=Europe/London:20260815T130000
DTSTAMP:20260421T014454Z
UID:10921732026-08-15 11:00:00+01:00achurchnearyou
CATEGORIES:
DESCRIPTION:Cafe\, cake stall\, and opportunity to meet with others.
GEO:-1.763863;53.769027
LOCATION:St Matthew’s Bankfoot
URL:https://www.achurchnearyou.com/church/938/service-and-events/events/10
 92173/
END:VEVENT
BEGIN:VEVENT
SUMMARY:Meet and Mingle
DTSTART;TZID=Europe/London:20260919T110000
DTEND;TZID=Europe/London:20260919T130000
DTSTAMP:20260421T014454Z
UID:10921732026-09-19 11:00:00+01:00achurchnearyou
CATEGORIES:
DESCRIPTION:Cafe\, cake stall\, and opportunity to meet with others.
GEO:-1.763863;53.769027
LOCATION:St Matthew’s Bankfoot
URL:https://www.achurchnearyou.com/church/938/service-and-events/events/10
 92173/
END:VEVENT
BEGIN:VEVENT
SUMMARY:Meet and Mingle
DTSTART;TZID=Europe/London:20261017T110000
DTEND;TZID=Europe/London:20261017T130000
DTSTAMP:20260421T014454Z
UID:10921732026-10-17 11:00:00+01:00achurchnearyou
CATEGORIES:
DESCRIPTION:Cafe\, cake stall\, and opportunity to meet with others.
GEO:-1.763863;53.769027
LOCATION:St Matthew’s Bankfoot
URL:https://www.achurchnearyou.com/church/938/service-and-events/events/10
 92173/
END:VEVENT
BEGIN:VEVENT
SUMMARY:Meet and Mingle
DTSTART;TZID=Europe/London:20261121T110000
DTEND;TZID=Europe/London:20261121T130000
DTSTAMP:20260421T014454Z
UID:10921732026-11-21 11:00:00+00:00achurchnearyou
CATEGORIES:
DESCRIPTION:Cafe\, cake stall\, and opportunity to meet with others.
GEO:-1.763863;53.769027
LOCATION:St Matthew’s Bankfoot
URL:https://www.achurchnearyou.com/church/938/service-and-events/events/10
 92173/
END:VEVENT
BEGIN:VEVENT
SUMMARY:Meet and Mingle
DTSTART;TZID=Europe/London:20261219T110000
DTEND;TZID=Europe/London:20261219T130000
DTSTAMP:20260421T014454Z
UID:10921732026-12-19 11:00:00+00:00achurchnearyou
CATEGORIES:
DESCRIPTION:Cafe\, cake stall\, and opportunity to meet with others.
GEO:-1.763863;53.769027
LOCATION:St Matthew’s Bankfoot
URL:https://www.achurchnearyou.com/church/938/service-and-events/events/10
 92173/
END:VEVENT
BEGIN:VEVENT
SUMMARY:Meet and Mingle
DTSTART;TZID=Europe/London:20270116T110000
DTEND;TZID=Europe/London:20270116T130000
DTSTAMP:20260421T014454Z
UID:10921732027-01-16 11:00:00+00:00achurchnearyou
CATEGORIES:
DESCRIPTION:Cafe\, cake stall\, and opportunity to meet with others.
GEO:-1.763863;53.769027
LOCATION:St Matthew’s Bankfoot
URL:https://www.achurchnearyou.com/church/938/service-and-events/events/10
 92173/
END:VEVENT
BEGIN:VEVENT
SUMMARY:Meet and Mingle
DTSTART;TZID=Europe/London:20270220T110000
DTEND;TZID=Europe/London:20270220T130000
DTSTAMP:20260421T014454Z
UID:10921732027-02-20 11:00:00+00:00achurchnearyou
CATEGORIES:
DESCRIPTION:Cafe\, cake stall\, and opportunity to meet with others.
GEO:-1.763863;53.769027
LOCATION:St Matthew’s Bankfoot
URL:https://www.achurchnearyou.com/church/938/service-and-events/events/10
 92173/
END:VEVENT
BEGIN:VEVENT
SUMMARY:Meet and Mingle
DTSTART;TZID=Europe/London:20270320T110000
DTEND;TZID=Europe/London:20270320T130000
DTSTAMP:20260421T014454Z
UID:10921732027-03-20 11:00:00+00:00achurchnearyou
CATEGORIES:
DESCRIPTION:Cafe\, cake stall\, and opportunity to meet with others.
GEO:-1.763863;53.769027
LOCATION:St Matthew’s Bankfoot
URL:https://www.achurchnearyou.com/church/938/service-and-events/events/10
 92173/
END:VEVENT
BEGIN:VEVENT
SUMMARY:Meet and Mingle
DTSTART;TZID=Europe/London:20270417T110000
DTEND;TZID=Europe/London:20270417T130000
DTSTAMP:20260421T014454Z
UID:10921732027-04-17 11:00:00+01:00achurchnearyou
CATEGORIES:
DESCRIPTION:Cafe\, cake stall\, and opportunity to meet with others.
GEO:-1.763863;53.769027
LOCATION:St Matthew’s Bankfoot
URL:https://www.achurchnearyou.com/church/938/service-and-events/events/10
 92173/
END:VEVENT
END:VCALENDAR
