BEGIN:VCALENDAR
VERSION:2.0
PRODID:-//achurchnearyou.com//eventfeed//EN
CALSCALE:GREGORIAN
METHOD:PUBLISH
X-WR-TIMEZONE:UTC
BEGIN:VEVENT
SUMMARY:Eucharist for Christmas
DTSTART:20251224T220000Z
DTEND:20251224T230000Z
DTSTAMP:20260424T165233Z
UID:12667812025-12-24 22:00:00+00:00achurchnearyou
CATEGORIES:
DESCRIPTION:Christmas Eve Worship.
GEO:-2.776665;50.802693
LOCATION:Stoke Abbott: St Mary
URL:https://www.achurchnearyou.com/church/9427/service-and-events/events/1
 266781/
END:VEVENT
END:VCALENDAR
