BEGIN:VCALENDAR
VERSION:2.0
PRODID:-//achurchnearyou.com//eventfeed//EN
CALSCALE:GREGORIAN
METHOD:PUBLISH
X-WR-TIMEZONE:UTC
BEGIN:VEVENT
SUMMARY:Lent Course
DTSTART;TZID=Europe/London:20250312T200000
DTEND;TZID=Europe/London:20250312T210000
DTSTAMP:20260422T155010Z
UID:11548212025-03-12 20:00:00+00:00achurchnearyou
CATEGORIES:
DESCRIPTION:Our Lent Course this year will be on prayer and will run for 4
  weeks in the Church hall. It will begin on Wednesday 12th March at 8.00pm
 . All welcome.
GEO:-1.852376;50.912765
LOCATION:Alderholt: St James'
URL:https://www.achurchnearyou.com/church/9438/service-and-events/events/1
 154821/
END:VEVENT
BEGIN:VEVENT
SUMMARY:Lent Course
DTSTART;TZID=Europe/London:20250319T200000
DTEND;TZID=Europe/London:20250319T210000
DTSTAMP:20260422T155010Z
UID:11548212025-03-19 20:00:00+00:00achurchnearyou
CATEGORIES:
DESCRIPTION:Our Lent Course this year will be on prayer and will run for 4
  weeks in the Church hall. It will begin on Wednesday 12th March at 8.00pm
 . All welcome.
GEO:-1.852376;50.912765
LOCATION:Alderholt: St James'
URL:https://www.achurchnearyou.com/church/9438/service-and-events/events/1
 154821/
END:VEVENT
BEGIN:VEVENT
SUMMARY:Lent Course
DTSTART;TZID=Europe/London:20250326T200000
DTEND;TZID=Europe/London:20250326T210000
DTSTAMP:20260422T155010Z
UID:11548212025-03-26 20:00:00+00:00achurchnearyou
CATEGORIES:
DESCRIPTION:Our Lent Course this year will be on prayer and will run for 4
  weeks in the Church hall. It will begin on Wednesday 12th March at 8.00pm
 . All welcome.
GEO:-1.852376;50.912765
LOCATION:Alderholt: St James'
URL:https://www.achurchnearyou.com/church/9438/service-and-events/events/1
 154821/
END:VEVENT
BEGIN:VEVENT
SUMMARY:Lent Course
DTSTART;TZID=Europe/London:20250402T200000
DTEND;TZID=Europe/London:20250402T210000
DTSTAMP:20260422T155010Z
UID:11548212025-04-02 20:00:00+01:00achurchnearyou
CATEGORIES:
DESCRIPTION:Our Lent Course this year will be on prayer and will run for 4
  weeks in the Church hall. It will begin on Wednesday 12th March at 8.00pm
 . All welcome.
GEO:-1.852376;50.912765
LOCATION:Alderholt: St James'
URL:https://www.achurchnearyou.com/church/9438/service-and-events/events/1
 154821/
END:VEVENT
END:VCALENDAR
