BEGIN:VCALENDAR
VERSION:2.0
PRODID:-//achurchnearyou.com//eventfeed//EN
CALSCALE:GREGORIAN
METHOD:PUBLISH
X-WR-TIMEZONE:UTC
BEGIN:VEVENT
SUMMARY:Palm Sunday
DTSTART:20250413T090000Z
DTEND:20250413T110000Z
DTSTAMP:20260422T155545Z
UID:11641172025-04-13 09:00:00+00:00achurchnearyou
CATEGORIES:
DESCRIPTION:Our Palm Sunday service will be a part of Messy Church this ye
 ar starting at 10.00am at St James' Church hall for breakfast then paradin
 g down to the Church.
GEO:-1.852376;50.912765
LOCATION:Alderholt: St James'
URL:https://www.achurchnearyou.com/church/9438/service-and-events/events/1
 164117/
END:VEVENT
END:VCALENDAR
