BEGIN:VCALENDAR
VERSION:2.0
PRODID:-//achurchnearyou.com//eventfeed//EN
CALSCALE:GREGORIAN
METHOD:PUBLISH
X-WR-TIMEZONE:UTC
BEGIN:VEVENT
SUMMARY:Good Friday
DTSTART:20250418T090000Z
DTEND:20250418T153000Z
DTSTAMP:20260422T173905Z
UID:11641872025-04-18 09:00:00+00:00achurchnearyou
CATEGORIES:
DESCRIPTION:10.30am Service with activities in Church. 2.00pm-3.30pm Walk 
 of witness around Alderholt.
GEO:-1.852376;50.912765
LOCATION:Alderholt: St James'
URL:https://www.achurchnearyou.com/church/9438/service-and-events/events/1
 164187/
END:VEVENT
END:VCALENDAR
