BEGIN:VCALENDAR
VERSION:2.0
PRODID:-//achurchnearyou.com//eventfeed//EN
CALSCALE:GREGORIAN
METHOD:PUBLISH
X-WR-TIMEZONE:UTC
BEGIN:VEVENT
SUMMARY:Pet Blessing service
DTSTART:20250511T090000Z
DTEND:20250511T110000Z
DTSTAMP:20260422T121428Z
UID:11968272025-05-11 09:00:00+00:00achurchnearyou
CATEGORIES:
DESCRIPTION:We will be having our annual Pet blessing service at St James'
  Church on Sunday 11th may starting at 10.00am in the Church hall for brea
 kfast. Please bring your pet for a blessing or a picture of them if they/y
 ou prefer!
GEO:-1.852376;50.912765
LOCATION:Alderholt: St James'
URL:https://www.achurchnearyou.com/church/9438/service-and-events/events/1
 196827/
END:VEVENT
END:VCALENDAR
