BEGIN:VCALENDAR
VERSION:2.0
PRODID:-//achurchnearyou.com//eventfeed//EN
CALSCALE:GREGORIAN
METHOD:PUBLISH
X-WR-TIMEZONE:UTC
BEGIN:VEVENT
SUMMARY:Churchyard Graves Blessing Service
DTSTART:20250713T170000Z
DTEND:20250713T180000Z
DTSTAMP:20260420T082855Z
UID:12047582025-07-13 17:00:00+00:00achurchnearyou
CATEGORIES:
DESCRIPTION:On Sunday 13th July at 6.00pm we will have our annual Graves B
 lessing service in the Churchyard.
GEO:-1.852376;50.912765
LOCATION:Alderholt: St James'
URL:https://www.achurchnearyou.com/church/9438/service-and-events/events/1
 204758/
END:VEVENT
END:VCALENDAR
