BEGIN:VCALENDAR
VERSION:2.0
PRODID:-//achurchnearyou.com//eventfeed//EN
CALSCALE:GREGORIAN
METHOD:PUBLISH
X-WR-TIMEZONE:UTC
BEGIN:VEVENT
SUMMARY:Carols at the Churchill
DTSTART:20251219T193000Z
DTEND:20251219T210000Z
DTSTAMP:20260419T232329Z
UID:12443452025-12-19 19:30:00+00:00achurchnearyou
CATEGORIES:
DESCRIPTION:Join us for carols in the Churchill pub on Friday 19th Decembe
 r at 7.30pm.
LOCATION:The Churchill Pub
URL:https://www.achurchnearyou.com/church/9438/service-and-events/events/1
 244345/
END:VEVENT
END:VCALENDAR
