BEGIN:VCALENDAR
VERSION:2.0
PRODID:-//achurchnearyou.com//eventfeed//EN
CALSCALE:GREGORIAN
METHOD:PUBLISH
X-WR-TIMEZONE:UTC
BEGIN:VEVENT
SUMMARY:Reflective Service
DTSTART:20250415T183000Z
DTEND:20250415T193000Z
DTSTAMP:20260419T235325Z
UID:11708322025-04-15 18:30:00+00:00achurchnearyou
CATEGORIES:
DESCRIPTION:A Holy Week Reflective Service
GEO:-1.956883;50.7885
LOCATION:Canford Magna Parish Church
URL:https://www.canfordparish.org/
END:VEVENT
END:VCALENDAR
