BEGIN:VCALENDAR
VERSION:2.0
PRODID:-//achurchnearyou.com//eventfeed//EN
CALSCALE:GREGORIAN
METHOD:PUBLISH
X-WR-TIMEZONE:UTC
BEGIN:VEVENT
SUMMARY:Maundy Thursday Service
DTSTART:20250417T173000Z
DTEND:20250417T200000Z
DTSTAMP:20260419T235336Z
UID:11708352025-04-17 17:30:00+00:00achurchnearyou
CATEGORIES:
DESCRIPTION:A Maundy Thursday Service including a light meal.\nPlaces are 
 limited so please book into this service via the link on the website\, whe
 n available.
GEO:-1.956883;50.7885
LOCATION:Canford Magna Parish Church
URL:https://www.canfordparish.org/
END:VEVENT
END:VCALENDAR
