BEGIN:VCALENDAR
VERSION:2.0
PRODID:-//achurchnearyou.com//eventfeed//EN
CALSCALE:GREGORIAN
METHOD:PUBLISH
X-WR-TIMEZONE:UTC
BEGIN:VEVENT
SUMMARY:Good Friday Reflective Service
DTSTART:20250418T130000Z
DTEND:20250418T140000Z
DTSTAMP:20260419T235341Z
UID:11708372025-04-18 13:00:00+00:00achurchnearyou
CATEGORIES:
DESCRIPTION:A time to reflect on all that happened that first Good Friday.
GEO:-1.956883;50.7885
LOCATION:Canford Magna Parish Church
URL:https://www.canfordparish.org/
END:VEVENT
END:VCALENDAR
