BEGIN:VCALENDAR
VERSION:2.0
PRODID:-//achurchnearyou.com//eventfeed//EN
CALSCALE:GREGORIAN
METHOD:PUBLISH
X-WR-TIMEZONE:UTC
BEGIN:VEVENT
SUMMARY:Breakfast Church
DTSTART;TZID=Europe/London:20240128T090000
DTEND;TZID=Europe/London:20240128T094500
DTSTAMP:20260422T203201Z
UID:9965492024-01-28 09:00:00+00:00achurchnearyou
CATEGORIES:
DESCRIPTION:Bacon Rolls\, toast & marmalade. juice\, tea & coffee. Childre
 n's activities. An oportunity to meet for music\, prayer\, discussion and 
 reflection in a warm and relaxed setting.
LOCATION:Cranborne CE First School
URL:https://www.achurchnearyou.com/church/9443/service-and-events/events/9
 96549/
END:VEVENT
BEGIN:VEVENT
SUMMARY:Breakfast Church
DTSTART;TZID=Europe/London:20240225T090000
DTEND;TZID=Europe/London:20240225T094500
DTSTAMP:20260422T203201Z
UID:9965492024-02-25 09:00:00+00:00achurchnearyou
CATEGORIES:
DESCRIPTION:Bacon Rolls\, toast & marmalade. juice\, tea & coffee. Childre
 n's activities. An oportunity to meet for music\, prayer\, discussion and 
 reflection in a warm and relaxed setting.
LOCATION:Cranborne CE First School
URL:https://www.achurchnearyou.com/church/9443/service-and-events/events/9
 96549/
END:VEVENT
BEGIN:VEVENT
SUMMARY:Breakfast Church
DTSTART;TZID=Europe/London:20240324T090000
DTEND;TZID=Europe/London:20240324T094500
DTSTAMP:20260422T203201Z
UID:9965492024-03-24 09:00:00+00:00achurchnearyou
CATEGORIES:
DESCRIPTION:Bacon Rolls\, toast & marmalade. juice\, tea & coffee. Childre
 n's activities. An oportunity to meet for music\, prayer\, discussion and 
 reflection in a warm and relaxed setting.
LOCATION:Cranborne CE First School
URL:https://www.achurchnearyou.com/church/9443/service-and-events/events/9
 96549/
END:VEVENT
BEGIN:VEVENT
SUMMARY:Breakfast Church
DTSTART;TZID=Europe/London:20240428T090000
DTEND;TZID=Europe/London:20240428T094500
DTSTAMP:20260422T203201Z
UID:9965492024-04-28 09:00:00+01:00achurchnearyou
CATEGORIES:
DESCRIPTION:Bacon Rolls\, toast & marmalade. juice\, tea & coffee. Childre
 n's activities. An oportunity to meet for music\, prayer\, discussion and 
 reflection in a warm and relaxed setting.
LOCATION:Cranborne CE First School
URL:https://www.achurchnearyou.com/church/9443/service-and-events/events/9
 96549/
END:VEVENT
BEGIN:VEVENT
SUMMARY:Breakfast Church
DTSTART;TZID=Europe/London:20240526T090000
DTEND;TZID=Europe/London:20240526T094500
DTSTAMP:20260422T203201Z
UID:9965492024-05-26 09:00:00+01:00achurchnearyou
CATEGORIES:
DESCRIPTION:Bacon Rolls\, toast & marmalade. juice\, tea & coffee. Childre
 n's activities. An oportunity to meet for music\, prayer\, discussion and 
 reflection in a warm and relaxed setting.
LOCATION:Cranborne CE First School
URL:https://www.achurchnearyou.com/church/9443/service-and-events/events/9
 96549/
END:VEVENT
BEGIN:VEVENT
SUMMARY:Breakfast Church
DTSTART;TZID=Europe/London:20240623T090000
DTEND;TZID=Europe/London:20240623T094500
DTSTAMP:20260422T203201Z
UID:9965492024-06-23 09:00:00+01:00achurchnearyou
CATEGORIES:
DESCRIPTION:Bacon Rolls\, toast & marmalade. juice\, tea & coffee. Childre
 n's activities. An oportunity to meet for music\, prayer\, discussion and 
 reflection in a warm and relaxed setting.
LOCATION:Cranborne CE First School
URL:https://www.achurchnearyou.com/church/9443/service-and-events/events/9
 96549/
END:VEVENT
BEGIN:VEVENT
SUMMARY:Breakfast Church
DTSTART;TZID=Europe/London:20240728T090000
DTEND;TZID=Europe/London:20240728T094500
DTSTAMP:20260422T203201Z
UID:9965492024-07-28 09:00:00+01:00achurchnearyou
CATEGORIES:
DESCRIPTION:Bacon Rolls\, toast & marmalade. juice\, tea & coffee. Childre
 n's activities. An oportunity to meet for music\, prayer\, discussion and 
 reflection in a warm and relaxed setting.
LOCATION:Cranborne CE First School
URL:https://www.achurchnearyou.com/church/9443/service-and-events/events/9
 96549/
END:VEVENT
BEGIN:VEVENT
SUMMARY:Breakfast Church
DTSTART;TZID=Europe/London:20240825T090000
DTEND;TZID=Europe/London:20240825T094500
DTSTAMP:20260422T203201Z
UID:9965492024-08-25 09:00:00+01:00achurchnearyou
CATEGORIES:
DESCRIPTION:Bacon Rolls\, toast & marmalade. juice\, tea & coffee. Childre
 n's activities. An oportunity to meet for music\, prayer\, discussion and 
 reflection in a warm and relaxed setting.
LOCATION:Cranborne CE First School
URL:https://www.achurchnearyou.com/church/9443/service-and-events/events/9
 96549/
END:VEVENT
BEGIN:VEVENT
SUMMARY:Breakfast Church
DTSTART;TZID=Europe/London:20240922T090000
DTEND;TZID=Europe/London:20240922T094500
DTSTAMP:20260422T203201Z
UID:9965492024-09-22 09:00:00+01:00achurchnearyou
CATEGORIES:
DESCRIPTION:Bacon Rolls\, toast & marmalade. juice\, tea & coffee. Childre
 n's activities. An oportunity to meet for music\, prayer\, discussion and 
 reflection in a warm and relaxed setting.
LOCATION:Cranborne CE First School
URL:https://www.achurchnearyou.com/church/9443/service-and-events/events/9
 96549/
END:VEVENT
BEGIN:VEVENT
SUMMARY:Breakfast Church
DTSTART;TZID=Europe/London:20241027T090000
DTEND;TZID=Europe/London:20241027T094500
DTSTAMP:20260422T203201Z
UID:9965492024-10-27 09:00:00+00:00achurchnearyou
CATEGORIES:
DESCRIPTION:Bacon Rolls\, toast & marmalade. juice\, tea & coffee. Childre
 n's activities. An oportunity to meet for music\, prayer\, discussion and 
 reflection in a warm and relaxed setting.
LOCATION:Cranborne CE First School
URL:https://www.achurchnearyou.com/church/9443/service-and-events/events/9
 96549/
END:VEVENT
BEGIN:VEVENT
SUMMARY:Breakfast Church
DTSTART;TZID=Europe/London:20241124T090000
DTEND;TZID=Europe/London:20241124T094500
DTSTAMP:20260422T203201Z
UID:9965492024-11-24 09:00:00+00:00achurchnearyou
CATEGORIES:
DESCRIPTION:Bacon Rolls\, toast & marmalade. juice\, tea & coffee. Childre
 n's activities. An oportunity to meet for music\, prayer\, discussion and 
 reflection in a warm and relaxed setting.
LOCATION:Cranborne CE First School
URL:https://www.achurchnearyou.com/church/9443/service-and-events/events/9
 96549/
END:VEVENT
BEGIN:VEVENT
SUMMARY:Breakfast Church
DTSTART;TZID=Europe/London:20241222T090000
DTEND;TZID=Europe/London:20241222T094500
DTSTAMP:20260422T203201Z
UID:9965492024-12-22 09:00:00+00:00achurchnearyou
CATEGORIES:
DESCRIPTION:Bacon Rolls\, toast & marmalade. juice\, tea & coffee. Childre
 n's activities. An oportunity to meet for music\, prayer\, discussion and 
 reflection in a warm and relaxed setting.
LOCATION:Cranborne CE First School
URL:https://www.achurchnearyou.com/church/9443/service-and-events/events/9
 96549/
END:VEVENT
BEGIN:VEVENT
SUMMARY:Breakfast Church
DTSTART;TZID=Europe/London:20250126T090000
DTEND;TZID=Europe/London:20250126T094500
DTSTAMP:20260422T203201Z
UID:9965492025-01-26 09:00:00+00:00achurchnearyou
CATEGORIES:
DESCRIPTION:Bacon Rolls\, toast & marmalade. juice\, tea & coffee. Childre
 n's activities. An oportunity to meet for music\, prayer\, discussion and 
 reflection in a warm and relaxed setting.
LOCATION:Cranborne CE First School
URL:https://www.achurchnearyou.com/church/9443/service-and-events/events/9
 96549/
END:VEVENT
BEGIN:VEVENT
SUMMARY:Breakfast Church
DTSTART;TZID=Europe/London:20250223T090000
DTEND;TZID=Europe/London:20250223T094500
DTSTAMP:20260422T203201Z
UID:9965492025-02-23 09:00:00+00:00achurchnearyou
CATEGORIES:
DESCRIPTION:Bacon Rolls\, toast & marmalade. juice\, tea & coffee. Childre
 n's activities. An oportunity to meet for music\, prayer\, discussion and 
 reflection in a warm and relaxed setting.
LOCATION:Cranborne CE First School
URL:https://www.achurchnearyou.com/church/9443/service-and-events/events/9
 96549/
END:VEVENT
BEGIN:VEVENT
SUMMARY:Breakfast Church
DTSTART;TZID=Europe/London:20250323T090000
DTEND;TZID=Europe/London:20250323T094500
DTSTAMP:20260422T203201Z
UID:9965492025-03-23 09:00:00+00:00achurchnearyou
CATEGORIES:
DESCRIPTION:Bacon Rolls\, toast & marmalade. juice\, tea & coffee. Childre
 n's activities. An oportunity to meet for music\, prayer\, discussion and 
 reflection in a warm and relaxed setting.
LOCATION:Cranborne CE First School
URL:https://www.achurchnearyou.com/church/9443/service-and-events/events/9
 96549/
END:VEVENT
BEGIN:VEVENT
SUMMARY:Breakfast Church
DTSTART;TZID=Europe/London:20250427T090000
DTEND;TZID=Europe/London:20250427T094500
DTSTAMP:20260422T203201Z
UID:9965492025-04-27 09:00:00+01:00achurchnearyou
CATEGORIES:
DESCRIPTION:Bacon Rolls\, toast & marmalade. juice\, tea & coffee. Childre
 n's activities. An oportunity to meet for music\, prayer\, discussion and 
 reflection in a warm and relaxed setting.
LOCATION:Cranborne CE First School
URL:https://www.achurchnearyou.com/church/9443/service-and-events/events/9
 96549/
END:VEVENT
BEGIN:VEVENT
SUMMARY:Breakfast Church
DTSTART;TZID=Europe/London:20250525T090000
DTEND;TZID=Europe/London:20250525T094500
DTSTAMP:20260422T203201Z
UID:9965492025-05-25 09:00:00+01:00achurchnearyou
CATEGORIES:
DESCRIPTION:Bacon Rolls\, toast & marmalade. juice\, tea & coffee. Childre
 n's activities. An oportunity to meet for music\, prayer\, discussion and 
 reflection in a warm and relaxed setting.
LOCATION:Cranborne CE First School
URL:https://www.achurchnearyou.com/church/9443/service-and-events/events/9
 96549/
END:VEVENT
BEGIN:VEVENT
SUMMARY:Breakfast Church
DTSTART;TZID=Europe/London:20250622T090000
DTEND;TZID=Europe/London:20250622T094500
DTSTAMP:20260422T203201Z
UID:9965492025-06-22 09:00:00+01:00achurchnearyou
CATEGORIES:
DESCRIPTION:Bacon Rolls\, toast & marmalade. juice\, tea & coffee. Childre
 n's activities. An oportunity to meet for music\, prayer\, discussion and 
 reflection in a warm and relaxed setting.
LOCATION:Cranborne CE First School
URL:https://www.achurchnearyou.com/church/9443/service-and-events/events/9
 96549/
END:VEVENT
BEGIN:VEVENT
SUMMARY:Breakfast Church
DTSTART;TZID=Europe/London:20250727T090000
DTEND;TZID=Europe/London:20250727T094500
DTSTAMP:20260422T203201Z
UID:9965492025-07-27 09:00:00+01:00achurchnearyou
CATEGORIES:
DESCRIPTION:Bacon Rolls\, toast & marmalade. juice\, tea & coffee. Childre
 n's activities. An oportunity to meet for music\, prayer\, discussion and 
 reflection in a warm and relaxed setting.
LOCATION:Cranborne CE First School
URL:https://www.achurchnearyou.com/church/9443/service-and-events/events/9
 96549/
END:VEVENT
BEGIN:VEVENT
SUMMARY:Breakfast Church
DTSTART;TZID=Europe/London:20250824T090000
DTEND;TZID=Europe/London:20250824T094500
DTSTAMP:20260422T203201Z
UID:9965492025-08-24 09:00:00+01:00achurchnearyou
CATEGORIES:
DESCRIPTION:Bacon Rolls\, toast & marmalade. juice\, tea & coffee. Childre
 n's activities. An oportunity to meet for music\, prayer\, discussion and 
 reflection in a warm and relaxed setting.
LOCATION:Cranborne CE First School
URL:https://www.achurchnearyou.com/church/9443/service-and-events/events/9
 96549/
END:VEVENT
BEGIN:VEVENT
SUMMARY:Breakfast Church
DTSTART;TZID=Europe/London:20250928T090000
DTEND;TZID=Europe/London:20250928T094500
DTSTAMP:20260422T203201Z
UID:9965492025-09-28 09:00:00+01:00achurchnearyou
CATEGORIES:
DESCRIPTION:Bacon Rolls\, toast & marmalade. juice\, tea & coffee. Childre
 n's activities. An oportunity to meet for music\, prayer\, discussion and 
 reflection in a warm and relaxed setting.
LOCATION:Cranborne CE First School
URL:https://www.achurchnearyou.com/church/9443/service-and-events/events/9
 96549/
END:VEVENT
BEGIN:VEVENT
SUMMARY:Breakfast Church
DTSTART;TZID=Europe/London:20251026T090000
DTEND;TZID=Europe/London:20251026T094500
DTSTAMP:20260422T203201Z
UID:9965492025-10-26 09:00:00+00:00achurchnearyou
CATEGORIES:
DESCRIPTION:Bacon Rolls\, toast & marmalade. juice\, tea & coffee. Childre
 n's activities. An oportunity to meet for music\, prayer\, discussion and 
 reflection in a warm and relaxed setting.
LOCATION:Cranborne CE First School
URL:https://www.achurchnearyou.com/church/9443/service-and-events/events/9
 96549/
END:VEVENT
BEGIN:VEVENT
SUMMARY:Breakfast Church
DTSTART;TZID=Europe/London:20251123T090000
DTEND;TZID=Europe/London:20251123T094500
DTSTAMP:20260422T203201Z
UID:9965492025-11-23 09:00:00+00:00achurchnearyou
CATEGORIES:
DESCRIPTION:Bacon Rolls\, toast & marmalade. juice\, tea & coffee. Childre
 n's activities. An oportunity to meet for music\, prayer\, discussion and 
 reflection in a warm and relaxed setting.
LOCATION:Cranborne CE First School
URL:https://www.achurchnearyou.com/church/9443/service-and-events/events/9
 96549/
END:VEVENT
BEGIN:VEVENT
SUMMARY:Breakfast Church
DTSTART;TZID=Europe/London:20251228T090000
DTEND;TZID=Europe/London:20251228T094500
DTSTAMP:20260422T203201Z
UID:9965492025-12-28 09:00:00+00:00achurchnearyou
CATEGORIES:
DESCRIPTION:Bacon Rolls\, toast & marmalade. juice\, tea & coffee. Childre
 n's activities. An oportunity to meet for music\, prayer\, discussion and 
 reflection in a warm and relaxed setting.
LOCATION:Cranborne CE First School
URL:https://www.achurchnearyou.com/church/9443/service-and-events/events/9
 96549/
END:VEVENT
BEGIN:VEVENT
SUMMARY:Breakfast Church
DTSTART;TZID=Europe/London:20260125T090000
DTEND;TZID=Europe/London:20260125T094500
DTSTAMP:20260422T203201Z
UID:9965492026-01-25 09:00:00+00:00achurchnearyou
CATEGORIES:
DESCRIPTION:Bacon Rolls\, toast & marmalade. juice\, tea & coffee. Childre
 n's activities. An oportunity to meet for music\, prayer\, discussion and 
 reflection in a warm and relaxed setting.
LOCATION:Cranborne CE First School
URL:https://www.achurchnearyou.com/church/9443/service-and-events/events/9
 96549/
END:VEVENT
BEGIN:VEVENT
SUMMARY:Breakfast Church
DTSTART;TZID=Europe/London:20260222T090000
DTEND;TZID=Europe/London:20260222T094500
DTSTAMP:20260422T203201Z
UID:9965492026-02-22 09:00:00+00:00achurchnearyou
CATEGORIES:
DESCRIPTION:Bacon Rolls\, toast & marmalade. juice\, tea & coffee. Childre
 n's activities. An oportunity to meet for music\, prayer\, discussion and 
 reflection in a warm and relaxed setting.
LOCATION:Cranborne CE First School
URL:https://www.achurchnearyou.com/church/9443/service-and-events/events/9
 96549/
END:VEVENT
BEGIN:VEVENT
SUMMARY:Breakfast Church
DTSTART;TZID=Europe/London:20260322T090000
DTEND;TZID=Europe/London:20260322T094500
DTSTAMP:20260422T203201Z
UID:9965492026-03-22 09:00:00+00:00achurchnearyou
CATEGORIES:
DESCRIPTION:Bacon Rolls\, toast & marmalade. juice\, tea & coffee. Childre
 n's activities. An oportunity to meet for music\, prayer\, discussion and 
 reflection in a warm and relaxed setting.
LOCATION:Cranborne CE First School
URL:https://www.achurchnearyou.com/church/9443/service-and-events/events/9
 96549/
END:VEVENT
BEGIN:VEVENT
SUMMARY:Breakfast Church
DTSTART;TZID=Europe/London:20260426T090000
DTEND;TZID=Europe/London:20260426T094500
DTSTAMP:20260422T203201Z
UID:9965492026-04-26 09:00:00+01:00achurchnearyou
CATEGORIES:
DESCRIPTION:Bacon Rolls\, toast & marmalade. juice\, tea & coffee. Childre
 n's activities. An oportunity to meet for music\, prayer\, discussion and 
 reflection in a warm and relaxed setting.
LOCATION:Cranborne CE First School
URL:https://www.achurchnearyou.com/church/9443/service-and-events/events/9
 96549/
END:VEVENT
BEGIN:VEVENT
SUMMARY:Breakfast Church
DTSTART;TZID=Europe/London:20260524T090000
DTEND;TZID=Europe/London:20260524T094500
DTSTAMP:20260422T203201Z
UID:9965492026-05-24 09:00:00+01:00achurchnearyou
CATEGORIES:
DESCRIPTION:Bacon Rolls\, toast & marmalade. juice\, tea & coffee. Childre
 n's activities. An oportunity to meet for music\, prayer\, discussion and 
 reflection in a warm and relaxed setting.
LOCATION:Cranborne CE First School
URL:https://www.achurchnearyou.com/church/9443/service-and-events/events/9
 96549/
END:VEVENT
BEGIN:VEVENT
SUMMARY:Breakfast Church
DTSTART;TZID=Europe/London:20260628T090000
DTEND;TZID=Europe/London:20260628T094500
DTSTAMP:20260422T203201Z
UID:9965492026-06-28 09:00:00+01:00achurchnearyou
CATEGORIES:
DESCRIPTION:Bacon Rolls\, toast & marmalade. juice\, tea & coffee. Childre
 n's activities. An oportunity to meet for music\, prayer\, discussion and 
 reflection in a warm and relaxed setting.
LOCATION:Cranborne CE First School
URL:https://www.achurchnearyou.com/church/9443/service-and-events/events/9
 96549/
END:VEVENT
BEGIN:VEVENT
SUMMARY:Breakfast Church
DTSTART;TZID=Europe/London:20260726T090000
DTEND;TZID=Europe/London:20260726T094500
DTSTAMP:20260422T203201Z
UID:9965492026-07-26 09:00:00+01:00achurchnearyou
CATEGORIES:
DESCRIPTION:Bacon Rolls\, toast & marmalade. juice\, tea & coffee. Childre
 n's activities. An oportunity to meet for music\, prayer\, discussion and 
 reflection in a warm and relaxed setting.
LOCATION:Cranborne CE First School
URL:https://www.achurchnearyou.com/church/9443/service-and-events/events/9
 96549/
END:VEVENT
BEGIN:VEVENT
SUMMARY:Breakfast Church
DTSTART;TZID=Europe/London:20260823T090000
DTEND;TZID=Europe/London:20260823T094500
DTSTAMP:20260422T203201Z
UID:9965492026-08-23 09:00:00+01:00achurchnearyou
CATEGORIES:
DESCRIPTION:Bacon Rolls\, toast & marmalade. juice\, tea & coffee. Childre
 n's activities. An oportunity to meet for music\, prayer\, discussion and 
 reflection in a warm and relaxed setting.
LOCATION:Cranborne CE First School
URL:https://www.achurchnearyou.com/church/9443/service-and-events/events/9
 96549/
END:VEVENT
BEGIN:VEVENT
SUMMARY:Breakfast Church
DTSTART;TZID=Europe/London:20260927T090000
DTEND;TZID=Europe/London:20260927T094500
DTSTAMP:20260422T203201Z
UID:9965492026-09-27 09:00:00+01:00achurchnearyou
CATEGORIES:
DESCRIPTION:Bacon Rolls\, toast & marmalade. juice\, tea & coffee. Childre
 n's activities. An oportunity to meet for music\, prayer\, discussion and 
 reflection in a warm and relaxed setting.
LOCATION:Cranborne CE First School
URL:https://www.achurchnearyou.com/church/9443/service-and-events/events/9
 96549/
END:VEVENT
BEGIN:VEVENT
SUMMARY:Breakfast Church
DTSTART;TZID=Europe/London:20261025T090000
DTEND;TZID=Europe/London:20261025T094500
DTSTAMP:20260422T203201Z
UID:9965492026-10-25 09:00:00+00:00achurchnearyou
CATEGORIES:
DESCRIPTION:Bacon Rolls\, toast & marmalade. juice\, tea & coffee. Childre
 n's activities. An oportunity to meet for music\, prayer\, discussion and 
 reflection in a warm and relaxed setting.
LOCATION:Cranborne CE First School
URL:https://www.achurchnearyou.com/church/9443/service-and-events/events/9
 96549/
END:VEVENT
BEGIN:VEVENT
SUMMARY:Breakfast Church
DTSTART;TZID=Europe/London:20261122T090000
DTEND;TZID=Europe/London:20261122T094500
DTSTAMP:20260422T203201Z
UID:9965492026-11-22 09:00:00+00:00achurchnearyou
CATEGORIES:
DESCRIPTION:Bacon Rolls\, toast & marmalade. juice\, tea & coffee. Childre
 n's activities. An oportunity to meet for music\, prayer\, discussion and 
 reflection in a warm and relaxed setting.
LOCATION:Cranborne CE First School
URL:https://www.achurchnearyou.com/church/9443/service-and-events/events/9
 96549/
END:VEVENT
BEGIN:VEVENT
SUMMARY:Breakfast Church
DTSTART;TZID=Europe/London:20261227T090000
DTEND;TZID=Europe/London:20261227T094500
DTSTAMP:20260422T203201Z
UID:9965492026-12-27 09:00:00+00:00achurchnearyou
CATEGORIES:
DESCRIPTION:Bacon Rolls\, toast & marmalade. juice\, tea & coffee. Childre
 n's activities. An oportunity to meet for music\, prayer\, discussion and 
 reflection in a warm and relaxed setting.
LOCATION:Cranborne CE First School
URL:https://www.achurchnearyou.com/church/9443/service-and-events/events/9
 96549/
END:VEVENT
BEGIN:VEVENT
SUMMARY:Breakfast Church
DTSTART;TZID=Europe/London:20270124T090000
DTEND;TZID=Europe/London:20270124T094500
DTSTAMP:20260422T203201Z
UID:9965492027-01-24 09:00:00+00:00achurchnearyou
CATEGORIES:
DESCRIPTION:Bacon Rolls\, toast & marmalade. juice\, tea & coffee. Childre
 n's activities. An oportunity to meet for music\, prayer\, discussion and 
 reflection in a warm and relaxed setting.
LOCATION:Cranborne CE First School
URL:https://www.achurchnearyou.com/church/9443/service-and-events/events/9
 96549/
END:VEVENT
BEGIN:VEVENT
SUMMARY:Breakfast Church
DTSTART;TZID=Europe/London:20270228T090000
DTEND;TZID=Europe/London:20270228T094500
DTSTAMP:20260422T203201Z
UID:9965492027-02-28 09:00:00+00:00achurchnearyou
CATEGORIES:
DESCRIPTION:Bacon Rolls\, toast & marmalade. juice\, tea & coffee. Childre
 n's activities. An oportunity to meet for music\, prayer\, discussion and 
 reflection in a warm and relaxed setting.
LOCATION:Cranborne CE First School
URL:https://www.achurchnearyou.com/church/9443/service-and-events/events/9
 96549/
END:VEVENT
BEGIN:VEVENT
SUMMARY:Breakfast Church
DTSTART;TZID=Europe/London:20270328T090000
DTEND;TZID=Europe/London:20270328T094500
DTSTAMP:20260422T203201Z
UID:9965492027-03-28 09:00:00+01:00achurchnearyou
CATEGORIES:
DESCRIPTION:Bacon Rolls\, toast & marmalade. juice\, tea & coffee. Childre
 n's activities. An oportunity to meet for music\, prayer\, discussion and 
 reflection in a warm and relaxed setting.
LOCATION:Cranborne CE First School
URL:https://www.achurchnearyou.com/church/9443/service-and-events/events/9
 96549/
END:VEVENT
END:VCALENDAR
