BEGIN:VCALENDAR
VERSION:2.0
PRODID:-//achurchnearyou.com//eventfeed//EN
CALSCALE:GREGORIAN
METHOD:PUBLISH
X-WR-TIMEZONE:UTC
BEGIN:VEVENT
SUMMARY:Blister Pack Recycling
DTSTART:20250218T113000Z
DTEND:20250218T123000Z
DTSTAMP:20260419T131843Z
UID:11559852025-02-18 11:30:00+00:00achurchnearyou
CATEGORIES:
DESCRIPTION:Do you take medication that comes in a blister pack? If so\, t
 he empty packs usually go into the waste and then into landfill. Now\, the
 re is a scheme to recycle these.\n\nWe have a collection point this month 
 at Odstock Church Car Park. A volunteer will be waiting to accept your emp
 ty blister packs from 11.30 am to 12.30 pm on Tuesday 18 February.\n\nIn o
 rder for these packs to be recycled\, they must be disassembled and the co
 nstituent parts recycled in different ways. This incurs a cost\, so we are
  asking for a contribution of £1 for every 50 packs.\n\nSee the download 
 for information about collection points in nearby villages.\n\n#EcoChurch 
 #Nunton #ChalkeValleyChurch #LetsRecycle
LOCATION:St Mary's Church Car Park
URL:https://www.achurchnearyou.com/church/9482/service-and-events/events/1
 155985/
END:VEVENT
END:VCALENDAR
